BEGIN:VCALENDAR
VERSION:2.0
PRODID:-//Bella Ease - ECPv6.15.20//NONSGML v1.0//EN
CALSCALE:GREGORIAN
METHOD:PUBLISH
X-WR-CALNAME:Bella Ease
X-ORIGINAL-URL:https://bellaease.com
X-WR-CALDESC:Events for Bella Ease
REFRESH-INTERVAL;VALUE=DURATION:PT1H
X-Robots-Tag:noindex
X-PUBLISHED-TTL:PT1H
BEGIN:VTIMEZONE
TZID:America/Chicago
BEGIN:DAYLIGHT
TZOFFSETFROM:-0600
TZOFFSETTO:-0500
TZNAME:CDT
DTSTART:20240310T080000
END:DAYLIGHT
BEGIN:STANDARD
TZOFFSETFROM:-0500
TZOFFSETTO:-0600
TZNAME:CST
DTSTART:20241103T070000
END:STANDARD
BEGIN:DAYLIGHT
TZOFFSETFROM:-0600
TZOFFSETTO:-0500
TZNAME:CDT
DTSTART:20250309T080000
END:DAYLIGHT
BEGIN:STANDARD
TZOFFSETFROM:-0500
TZOFFSETTO:-0600
TZNAME:CST
DTSTART:20251102T070000
END:STANDARD
BEGIN:DAYLIGHT
TZOFFSETFROM:-0600
TZOFFSETTO:-0500
TZNAME:CDT
DTSTART:20260308T080000
END:DAYLIGHT
BEGIN:STANDARD
TZOFFSETFROM:-0500
TZOFFSETTO:-0600
TZNAME:CST
DTSTART:20261101T070000
END:STANDARD
BEGIN:DAYLIGHT
TZOFFSETFROM:-0600
TZOFFSETTO:-0500
TZNAME:CDT
DTSTART:20270314T080000
END:DAYLIGHT
BEGIN:STANDARD
TZOFFSETFROM:-0500
TZOFFSETTO:-0600
TZNAME:CST
DTSTART:20271107T070000
END:STANDARD
END:VTIMEZONE
BEGIN:VEVENT
DTSTART;VALUE=DATE:20260403
DTEND;VALUE=DATE:20260404
DTSTAMP:20260423T230658
CREATED:20260226T180451Z
LAST-MODIFIED:20260226T180451Z
UID:15116-1775174400-1775260799@bellaease.com
SUMMARY:Closed for Easter
DESCRIPTION:All Bella Ease offices will be closed on Friday\, April 3rd in observance of Good Friday and Easter. \nAll offices and programs will reopen on Monday\, April 6th.
URL:https://bellaease.com/event/closed-for-easter/
CATEGORIES:Beardstown,Bella Ease,Jacksonville,Quincy
ATTACH;FMTTYPE=image/png:https://bellaease.com/wp-content/uploads/2026/02/Closed-Easter-2026.png
END:VEVENT
BEGIN:VEVENT
DTSTART;VALUE=DATE:20260119
DTEND;VALUE=DATE:20260120
DTSTAMP:20260423T230658
CREATED:20251222T231447Z
LAST-MODIFIED:20251222T231447Z
UID:15033-1768780800-1768867199@bellaease.com
SUMMARY:Closed for MLK Day
DESCRIPTION:All Bella Ease offices will be closed on Monday\, January 19th in observance of the Martin Luther King Jr Day. \nAll offices and programs will reopen on Tuesday\, January 20th.
URL:https://bellaease.com/event/closed-mlk2026/
CATEGORIES:Beardstown,Bella Ease,Jacksonville,Quincy
ATTACH;FMTTYPE=image/png:https://bellaease.com/wp-content/uploads/2025/12/Closed-MLK-Day-2026.png
END:VEVENT
BEGIN:VEVENT
DTSTART;VALUE=DATE:20251231
DTEND;VALUE=DATE:20260102
DTSTAMP:20260423T230658
CREATED:20251205T212226Z
LAST-MODIFIED:20251205T212510Z
UID:14975-1767139200-1767311999@bellaease.com
SUMMARY:Closed for the New Year
DESCRIPTION:All Bella Ease programs and offices will be closed on Wednesday\, December 31st and Thursday\, January 1st in observation of the New Year. \nAll offices and programs will reopen on Friday\, January 2nd.
URL:https://bellaease.com/event/closed-for-new-year/
CATEGORIES:Beardstown,Bella Ease,Jacksonville,Pittsfield,Quincy
ATTACH;FMTTYPE=image/jpeg:https://bellaease.com/wp-content/uploads/2025/12/December-23rd-26th-16-x-9-in-1.jpg
END:VEVENT
BEGIN:VEVENT
DTSTART;VALUE=DATE:20251223
DTEND;VALUE=DATE:20251227
DTSTAMP:20260423T230658
CREATED:20251205T211644Z
LAST-MODIFIED:20251222T225254Z
UID:14972-1766448000-1766793599@bellaease.com
SUMMARY:Closed for Christmas
DESCRIPTION:All Bella Ease programs and offices will be closed from Tuesday\, December 23rd through Friday\, December 26th in observation of Christmas. \nAll offices and programs will reopen on Monday\, December 29th.
URL:https://bellaease.com/event/closed-for-christmas/
CATEGORIES:Beardstown,Bella Ease,Jacksonville,Quincy
ATTACH;FMTTYPE=image/jpeg:https://bellaease.com/wp-content/uploads/2025/12/December-23rd-26th-16-x-9-in.jpg
END:VEVENT
BEGIN:VEVENT
DTSTART;VALUE=DATE:20251127
DTEND;VALUE=DATE:20251129
DTSTAMP:20260423T230658
CREATED:20251023T193953Z
LAST-MODIFIED:20251023T193953Z
UID:14774-1764201600-1764374399@bellaease.com
SUMMARY:Closed for Thanksgiving
DESCRIPTION:All Bella Ease programs and offices will be closed from Thursday\, November 27th through Friday\, November 28th in observation of Thanksgiving. \nAll offices and programs will reopen on Monday\, December 1st.
URL:https://bellaease.com/event/closed-for-thanksgiving-2025/
CATEGORIES:Bella Ease
ATTACH;FMTTYPE=image/png:https://bellaease.com/wp-content/uploads/2025/10/Closed-for-Thanksgiving-2025.png
END:VEVENT
BEGIN:VEVENT
DTSTART;VALUE=DATE:20250901
DTEND;VALUE=DATE:20250902
DTSTAMP:20260423T230658
CREATED:20250818T165858Z
LAST-MODIFIED:20250818T165858Z
UID:14662-1756684800-1756771199@bellaease.com
SUMMARY:Closed for Labor Day
DESCRIPTION:All Bella Ease programs and offices will be closed on Monday\, September 1st in observation of Labor Day. \nAll offices and programs will reopen on Tuesday\, September 2nd.
URL:https://bellaease.com/event/closed-for-labor-day-2025/
CATEGORIES:Bella Ease
ATTACH;FMTTYPE=image/png:https://bellaease.com/wp-content/uploads/2025/08/Closed-for-Labor-Day.png
END:VEVENT
BEGIN:VEVENT
DTSTART;VALUE=DATE:20250804
DTEND;VALUE=DATE:20250809
DTSTAMP:20260423T230658
CREATED:20250729T160619Z
LAST-MODIFIED:20250729T160619Z
UID:14613-1754265600-1754697599@bellaease.com
SUMMARY:Youth Services Closed
DESCRIPTION:All Youth Services (Teen Reach and CARES) will be closed during the week of August 4th through August 8th. Our staff will be prepping for the start of school. \nAll programs will reopen on Monday\, August 11th.
URL:https://bellaease.com/event/ys-closed-08-25/
CATEGORIES:Bella Ease,Youth Services
ATTACH;FMTTYPE=image/png:https://bellaease.com/wp-content/uploads/2025/07/Youth-Services-Closed-16-x-9-in.png
END:VEVENT
BEGIN:VEVENT
DTSTART;VALUE=DATE:20250704
DTEND;VALUE=DATE:20250705
DTSTAMP:20260423T230658
CREATED:20250522T160542Z
LAST-MODIFIED:20250522T160542Z
UID:14490-1751587200-1751673599@bellaease.com
SUMMARY:Closed for Independence Day
DESCRIPTION:All Bella Ease programs and offices will be closed on Friday\, July 4th in honor of Independence Day. \nAll offices and programs will reopen on Monday\, July 7th.
URL:https://bellaease.com/event/closed-for-independence-day-2025/
CATEGORIES:Bella Ease
ATTACH;FMTTYPE=image/png:https://bellaease.com/wp-content/uploads/2025/05/Independence-Day-2025.png
END:VEVENT
BEGIN:VEVENT
DTSTART;VALUE=DATE:20250619
DTEND;VALUE=DATE:20250620
DTSTAMP:20260423T230658
CREATED:20250522T154301Z
LAST-MODIFIED:20250522T154301Z
UID:14480-1750291200-1750377599@bellaease.com
SUMMARY:Closed for Juneteenth
DESCRIPTION:Most regular Bella Ease programs and all offices will be closed on Thursday\, June 19th in honor of Juneteenth. Some student programming will be open. \nAll offices and programs will reopen on Friday\, June 20th.
URL:https://bellaease.com/event/closed-for-juneteenth/
CATEGORIES:Bella Ease
ATTACH;FMTTYPE=image/png:https://bellaease.com/wp-content/uploads/2025/05/Juneteenth-2025.png
END:VEVENT
BEGIN:VEVENT
DTSTART;VALUE=DATE:20250526
DTEND;VALUE=DATE:20250527
DTSTAMP:20260423T230658
CREATED:20250422T164113Z
LAST-MODIFIED:20250422T164113Z
UID:14463-1748217600-1748303999@bellaease.com
SUMMARY:Closed for Memorial Day
DESCRIPTION:All Bella Ease programs and offices will be closed on Monday\, May 26th in honor of Memorial Day. \nAll offices and programs will reopen on Tuesday\, May 27th.
URL:https://bellaease.com/event/closed-for-memorial-day-2025/
CATEGORIES:Bella Ease
ATTACH;FMTTYPE=image/png:https://bellaease.com/wp-content/uploads/2025/04/Closed-for-Memorial-Day.png
END:VEVENT
END:VCALENDAR