BEGIN:VCALENDAR
VERSION:2.0
PRODID:-//Bella Ease - ECPv6.15.20//NONSGML v1.0//EN
CALSCALE:GREGORIAN
METHOD:PUBLISH
X-ORIGINAL-URL:https://bellaease.com
X-WR-CALDESC:Events for Bella Ease
REFRESH-INTERVAL;VALUE=DURATION:PT1H
X-Robots-Tag:noindex
X-PUBLISHED-TTL:PT1H
BEGIN:VTIMEZONE
TZID:America/Chicago
BEGIN:DAYLIGHT
TZOFFSETFROM:-0600
TZOFFSETTO:-0500
TZNAME:CDT
DTSTART:20250309T080000
END:DAYLIGHT
BEGIN:STANDARD
TZOFFSETFROM:-0500
TZOFFSETTO:-0600
TZNAME:CST
DTSTART:20251102T070000
END:STANDARD
BEGIN:DAYLIGHT
TZOFFSETFROM:-0600
TZOFFSETTO:-0500
TZNAME:CDT
DTSTART:20260308T080000
END:DAYLIGHT
BEGIN:STANDARD
TZOFFSETFROM:-0500
TZOFFSETTO:-0600
TZNAME:CST
DTSTART:20261101T070000
END:STANDARD
BEGIN:DAYLIGHT
TZOFFSETFROM:-0600
TZOFFSETTO:-0500
TZNAME:CDT
DTSTART:20270314T080000
END:DAYLIGHT
BEGIN:STANDARD
TZOFFSETFROM:-0500
TZOFFSETTO:-0600
TZNAME:CST
DTSTART:20271107T070000
END:STANDARD
END:VTIMEZONE
BEGIN:VEVENT
DTSTART;TZID=America/Chicago:20260506T173000
DTEND;TZID=America/Chicago:20260506T190000
DTSTAMP:20260423T190935
CREATED:20260326T165449Z
LAST-MODIFIED:20260226T175554Z
UID:15109-1778088600-1778094000@bellaease.com
SUMMARY:Legal Workshop: DUI & Traffic Law
DESCRIPTION:EVENT HOSTED IN JACKSONVILLE ONLY \nEveryone is welcome to join us for 4 Legal Workshops\, where we discuss the court process and your legal rights with local attorneys. \nFood and childcare is provided for participants who RSVP ahead of time. \nTo sign up and reserve childcare\, call us at 217-209-0632 or fill out the form below. \nFirst Name *Last Name *Phone *Email AddressStreet AddressApartment\, suite\, etcCityState/ProvinceZIP / Postal CodeWhat workshops are you wanting to attend?March 25 (Juvenile Court: DCFS Cases/Juvenile Delinquency)April 16 (Family Law\, Child Custody\, & Visitation)May 6 (DUI & Traffic Law)May 20 (Landlord & Tenant Rights)Please select as many as you want.Do you need childcare for this event?Please select oneYesNoList the ages of the children that will be attendingNotes Submit RegistrationPlease do not fill in this field.
URL:https://bellaease.com/event/legal-workshop-5-6-26/
LOCATION:Jacksonville Location\, 307 E Morgan\, Jacksonville\, IL\, 62650\, United States
CATEGORIES:Community Services,Family Services,Jacksonville
ATTACH;FMTTYPE=image/png:https://bellaease.com/wp-content/uploads/2026/02/Legal-Workshop-May-6.png
END:VEVENT
BEGIN:VEVENT
DTSTART;TZID=America/Chicago:20260520T173000
DTEND;TZID=America/Chicago:20260520T190000
DTSTAMP:20260423T190935
CREATED:20260415T165640Z
LAST-MODIFIED:20260226T175729Z
UID:15112-1779298200-1779303600@bellaease.com
SUMMARY:Legal Workshop: Landlord & Tenant Rights
DESCRIPTION:EVENT HOSTED IN JACKSONVILLE ONLY \nEveryone is welcome to join us for 4 Legal Workshops\, where we discuss the court process and your legal rights with local attorneys. \nFood and childcare is provided for participants who RSVP ahead of time. \nTo sign up and reserve childcare\, call us at 217-209-0632 or fill out the form below. \nFirst Name *Last Name *Phone *Email AddressStreet AddressApartment\, suite\, etcCityState/ProvinceZIP / Postal CodeWhat workshops are you wanting to attend?March 25 (Juvenile Court: DCFS Cases/Juvenile Delinquency)April 16 (Family Law\, Child Custody\, & Visitation)May 6 (DUI & Traffic Law)May 20 (Landlord & Tenant Rights)Please select as many as you want.Do you need childcare for this event?Please select oneYesNoList the ages of the children that will be attendingNotes Submit RegistrationPlease do not fill in this field. Please do not fill in this field.
URL:https://bellaease.com/event/legal-workshop-5-20-26/
LOCATION:Jacksonville Location\, 307 E Morgan\, Jacksonville\, IL\, 62650\, United States
CATEGORIES:Community Services,Family Services,Jacksonville
ATTACH;FMTTYPE=image/png:https://bellaease.com/wp-content/uploads/2026/02/Legal-Workshop-May-20.png
END:VEVENT
END:VCALENDAR