BEGIN:VCALENDAR
VERSION:2.0
PRODID:-//Bella Ease - ECPv6.15.20//NONSGML v1.0//EN
CALSCALE:GREGORIAN
METHOD:PUBLISH
X-WR-CALNAME:Bella Ease
X-ORIGINAL-URL:https://bellaease.com
X-WR-CALDESC:Events for Bella Ease
REFRESH-INTERVAL;VALUE=DURATION:PT1H
X-Robots-Tag:noindex
X-PUBLISHED-TTL:PT1H
BEGIN:VTIMEZONE
TZID:America/Chicago
BEGIN:DAYLIGHT
TZOFFSETFROM:-0600
TZOFFSETTO:-0500
TZNAME:CDT
DTSTART:20240310T080000
END:DAYLIGHT
BEGIN:STANDARD
TZOFFSETFROM:-0500
TZOFFSETTO:-0600
TZNAME:CST
DTSTART:20241103T070000
END:STANDARD
BEGIN:DAYLIGHT
TZOFFSETFROM:-0600
TZOFFSETTO:-0500
TZNAME:CDT
DTSTART:20250309T080000
END:DAYLIGHT
BEGIN:STANDARD
TZOFFSETFROM:-0500
TZOFFSETTO:-0600
TZNAME:CST
DTSTART:20251102T070000
END:STANDARD
BEGIN:DAYLIGHT
TZOFFSETFROM:-0600
TZOFFSETTO:-0500
TZNAME:CDT
DTSTART:20260308T080000
END:DAYLIGHT
BEGIN:STANDARD
TZOFFSETFROM:-0500
TZOFFSETTO:-0600
TZNAME:CST
DTSTART:20261101T070000
END:STANDARD
END:VTIMEZONE
BEGIN:VEVENT
DTSTART;TZID=America/Chicago:20250604T180000
DTEND;TZID=America/Chicago:20250604T191500
DTSTAMP:20260424T212107
CREATED:20250521T211648Z
LAST-MODIFIED:20250521T211648Z
UID:14468-1749060000-1749064500@bellaease.com
SUMMARY:Family Circle
DESCRIPTION:EVENT HOSTED IN PITTSFIELD ONLY \nAre you raising grandchildren\, nieces/nephews\, or other relative children? We want to hear from you and learn how we can help. \nBring your questions\, challenges\, and successes. Get answers and resources while hearing from others with shared experiences. \nFree dinner and childcare provided to those who register with the form below. \nFirst Name *Last Name *Phone *Email AddressStreet AddressApartment\, suite\, etcCityState/ProvinceZIP / Postal CodeDo you need childcare for this event? *Please select oneYesNoList the ages of the children that will be attendingNotes Submit RegistrationPlease do not fill in this field.
URL:https://bellaease.com/event/family-circle-6-4-25/
LOCATION:JWCC Southeast Education Center\, 39637 260th Ave\, Pittsfield\, IL\, 62363\, United States
CATEGORIES:Family Services,Pittsfield
ATTACH;FMTTYPE=image/png:https://bellaease.com/wp-content/uploads/2025/04/Family-Circle-Generic-16-x-9-in.png
END:VEVENT
BEGIN:VEVENT
DTSTART;TZID=America/Chicago:20250609T180000
DTEND;TZID=America/Chicago:20250609T190000
DTSTAMP:20260424T212107
CREATED:20250522T152220Z
LAST-MODIFIED:20250522T152220Z
UID:14474-1749492000-1749495600@bellaease.com
SUMMARY:Jacksonville Parent Support Group
DESCRIPTION:EVENT HOSTED IN JACKSONVILLE ONLY \nAll parents are welcome to join us every 2nd and 4th Monday for our Parent Support Group\, where we discuss real struggles facing parents like you! \nFood is provided for participants and childcare. Childcare is available on site but must be reserved ahead of time. \nTo sign up and reserve childcare\, call/text us at 217-440-5901 or fill out the form below. \nFirst Name *Last Name *Phone *Email AddressStreet AddressApartment\, suite\, etcCityState/ProvinceZIP / Postal CodeDo you need childcare for this event?Please select oneYesNoList the ages of the children that will be attendingNotes Submit RegistrationPlease do not fill in this field.
URL:https://bellaease.com/event/jacksonville-psg-6-9-25/
LOCATION:IL
CATEGORIES:Family Services,Jacksonville
ATTACH;FMTTYPE=image/png:https://bellaease.com/wp-content/uploads/2025/03/Parent-Support-Group-16-x-9-in.png
END:VEVENT
BEGIN:VEVENT
DTSTART;TZID=America/Chicago:20250610T183000
DTEND;TZID=America/Chicago:20250610T193000
DTSTAMP:20260424T212107
CREATED:20250522T152255Z
LAST-MODIFIED:20250522T152255Z
UID:14476-1749580200-1749583800@bellaease.com
SUMMARY:Quincy Parent Support Group
DESCRIPTION:EVENT HOSTED IN QUINCY ONLY \nAll parents are welcome to join us every 2nd and 4th Tuesday for our Parent Support Group\, where we discuss real struggles facing parents like you! \nFood is provided for participants and childcare. Childcare is available on site but must be reserved ahead of time. \nTo sign up and reserve childcare\, call/text us at 217-440-5901 or fill out the form below. \nFirst Name *Last Name *Phone *Email AddressStreet AddressApartment\, suite\, etcCityState/ProvinceZIP / Postal CodeDo you need childcare for this event?Please select oneYesNoList the ages of the children that will be attendingNotes Submit RegistrationPlease do not fill in this field. Please do not fill in this field.
URL:https://bellaease.com/event/quincy-psg-6-10-25/
LOCATION:IL
CATEGORIES:Family Services,Quincy
ATTACH;FMTTYPE=image/png:https://bellaease.com/wp-content/uploads/2025/03/Parent-Support-Group-16-x-9-in.png
END:VEVENT
BEGIN:VEVENT
DTSTART;TZID=America/Chicago:20250623T180000
DTEND;TZID=America/Chicago:20250623T190000
DTSTAMP:20260424T212107
CREATED:20250522T154351Z
LAST-MODIFIED:20250522T154351Z
UID:14483-1750701600-1750705200@bellaease.com
SUMMARY:Jacksonville Parent Support Group
DESCRIPTION:EVENT HOSTED IN JACKSONVILLE ONLY \nAll parents are welcome to join us every 2nd and 4th Monday for our Parent Support Group\, where we discuss real struggles facing parents like you! \nFood is provided for participants and childcare. Childcare is available on site but must be reserved ahead of time. \nTo sign up and reserve childcare\, call/text us at 217-440-5901 or fill out the form below. \nFirst Name *Last Name *Phone *Email AddressStreet AddressApartment\, suite\, etcCityState/ProvinceZIP / Postal CodeDo you need childcare for this event?Please select oneYesNoList the ages of the children that will be attendingNotes Submit RegistrationPlease do not fill in this field. Please do not fill in this field. Please do not fill in this field.
URL:https://bellaease.com/event/jacksonville-psg-6-23-25/
LOCATION:IL
CATEGORIES:Family Services,Jacksonville
ATTACH;FMTTYPE=image/png:https://bellaease.com/wp-content/uploads/2025/03/Parent-Support-Group-16-x-9-in.png
END:VEVENT
BEGIN:VEVENT
DTSTART;TZID=America/Chicago:20250624T183000
DTEND;TZID=America/Chicago:20250624T193000
DTSTAMP:20260424T212107
CREATED:20250522T154434Z
LAST-MODIFIED:20250522T154434Z
UID:14485-1750789800-1750793400@bellaease.com
SUMMARY:Quincy Parent Support Group
DESCRIPTION:EVENT HOSTED IN QUINCY ONLY \nAll parents are welcome to join us every 2nd and 4th Tuesday for our Parent Support Group\, where we discuss real struggles facing parents like you! \nFood is provided for participants and childcare. Childcare is available on site but must be reserved ahead of time. \nTo sign up and reserve childcare\, call/text us at 217-440-5901 or fill out the form below. \nFirst Name *Last Name *Phone *Email AddressStreet AddressApartment\, suite\, etcCityState/ProvinceZIP / Postal CodeDo you need childcare for this event?Please select oneYesNoList the ages of the children that will be attendingNotes Submit RegistrationPlease do not fill in this field. Please do not fill in this field. Please do not fill in this field. Please do not fill in this field.
URL:https://bellaease.com/event/quincy-psg-6-24-25/
LOCATION:IL
CATEGORIES:Family Services,Quincy
ATTACH;FMTTYPE=image/png:https://bellaease.com/wp-content/uploads/2025/03/Parent-Support-Group-16-x-9-in.png
END:VEVENT
BEGIN:VEVENT
DTSTART;TZID=America/Chicago:20250626T180000
DTEND;TZID=America/Chicago:20250626T193000
DTSTAMP:20260424T212107
CREATED:20250522T154608Z
LAST-MODIFIED:20250522T154621Z
UID:14487-1750960800-1750966200@bellaease.com
SUMMARY:The Barbershop
DESCRIPTION:EVENT HOSTED IN QUINCY ONLY \nHey Dads\, you are invited to enjoy great food and great Dad-talk with other men\, young and old. This group is for all Dads – Those who are winning\, those who want to win\, and even those who are just keeping their heads above the water. The Barber Shop happens on the 3rd Thursday of every month\, but is being moved to the 4th Thursday in June due to Juneteenth. \nChildcare is provided if requested through the form below. \nFirst Name *Last Name *Phone *Email AddressStreet AddressApartment\, suite\, etcCityState/ProvinceZIP / Postal CodeDo you need childcare for this event?Please select oneYesNoList the ages of the children that will be attendingNotes Submit Registration
URL:https://bellaease.com/event/the-barbershop-6-26-25/
LOCATION:Quincy – 707 Location\, 707 Broadway\, Quincy\, IL\, 62301\, United States
CATEGORIES:Family Services,Quincy
ATTACH;FMTTYPE=image/png:https://bellaease.com/wp-content/uploads/2025/03/Barber-Shop-Cover.png
END:VEVENT
END:VCALENDAR