BEGIN:VCALENDAR
VERSION:2.0
PRODID:-//Bella Ease - ECPv6.15.20//NONSGML v1.0//EN
CALSCALE:GREGORIAN
METHOD:PUBLISH
X-ORIGINAL-URL:https://bellaease.com
X-WR-CALDESC:Events for Bella Ease
REFRESH-INTERVAL;VALUE=DURATION:PT1H
X-Robots-Tag:noindex
X-PUBLISHED-TTL:PT1H
BEGIN:VTIMEZONE
TZID:America/Chicago
BEGIN:DAYLIGHT
TZOFFSETFROM:-0600
TZOFFSETTO:-0500
TZNAME:CDT
DTSTART:20240310T080000
END:DAYLIGHT
BEGIN:STANDARD
TZOFFSETFROM:-0500
TZOFFSETTO:-0600
TZNAME:CST
DTSTART:20241103T070000
END:STANDARD
BEGIN:DAYLIGHT
TZOFFSETFROM:-0600
TZOFFSETTO:-0500
TZNAME:CDT
DTSTART:20250309T080000
END:DAYLIGHT
BEGIN:STANDARD
TZOFFSETFROM:-0500
TZOFFSETTO:-0600
TZNAME:CST
DTSTART:20251102T070000
END:STANDARD
BEGIN:DAYLIGHT
TZOFFSETFROM:-0600
TZOFFSETTO:-0500
TZNAME:CDT
DTSTART:20260308T080000
END:DAYLIGHT
BEGIN:STANDARD
TZOFFSETFROM:-0500
TZOFFSETTO:-0600
TZNAME:CST
DTSTART:20261101T070000
END:STANDARD
END:VTIMEZONE
BEGIN:VEVENT
DTSTART;TZID=America/Chicago:20251208T183000
DTEND;TZID=America/Chicago:20251208T193000
DTSTAMP:20260423T172525
CREATED:20251204T221100Z
LAST-MODIFIED:20251204T221100Z
UID:14884-1765218600-1765222200@bellaease.com
SUMMARY:Jacksonville Parent Support Group
DESCRIPTION:EVENT HOSTED IN JACKSONVILLE ONLY \nAll parents are welcome to join us every 2nd and 4th Monday for our Parent Support Group\, where we discuss real struggles facing parents like you! \nFood is provided for participants and childcare. Childcare is available on site but must be reserved ahead of time. \nTo sign up and reserve childcare\, call/text us at 217-440-5901 or fill out the form below. \nFirst Name *Last Name *Phone *Email AddressStreet AddressApartment\, suite\, etcCityState/ProvinceZIP / Postal CodeDo you need childcare for this event?Please select oneYesNoList the ages of the children that will be attendingNotes Submit RegistrationPlease do not fill in this field.
URL:https://bellaease.com/event/jacksonville-psg-12-8-25/
LOCATION:Jacksonville Location\, 307 E Morgan\, Jacksonville\, IL\, 62650\, United States
CATEGORIES:Family Services,Jacksonville
ATTACH;FMTTYPE=image/png:https://bellaease.com/wp-content/uploads/2025/03/Parent-Support-Group-16-x-9-in.png
END:VEVENT
BEGIN:VEVENT
DTSTART;TZID=America/Chicago:20251110T183000
DTEND;TZID=America/Chicago:20251110T193000
DTSTAMP:20260423T172525
CREATED:20251023T192209Z
LAST-MODIFIED:20251023T192209Z
UID:14768-1762799400-1762803000@bellaease.com
SUMMARY:Jacksonville Parent Support Group
DESCRIPTION:EVENT HOSTED IN JACKSONVILLE ONLY \nAll parents are welcome to join us every 2nd and 4th Monday for our Parent Support Group\, where we discuss real struggles facing parents like you! \nFood is provided for participants and childcare. Childcare is available on site but must be reserved ahead of time. \nTo sign up and reserve childcare\, call/text us at 217-440-5901 or fill out the form below. \nFirst Name *Last Name *Phone *Email AddressStreet AddressApartment\, suite\, etcCityState/ProvinceZIP / Postal CodeDo you need childcare for this event?Please select oneYesNoList the ages of the children that will be attendingNotes Submit RegistrationPlease do not fill in this field. Please do not fill in this field.
URL:https://bellaease.com/event/jacksonville-psg-11-10-25/
LOCATION:IL
CATEGORIES:Family Services,Jacksonville
ATTACH;FMTTYPE=image/png:https://bellaease.com/wp-content/uploads/2025/03/Parent-Support-Group-16-x-9-in.png
END:VEVENT
BEGIN:VEVENT
DTSTART;TZID=America/Chicago:20251027T183000
DTEND;TZID=America/Chicago:20251027T193000
DTSTAMP:20260423T172526
CREATED:20251002T013637Z
LAST-MODIFIED:20251002T013637Z
UID:14741-1761589800-1761593400@bellaease.com
SUMMARY:Jacksonville Parent Support Group
DESCRIPTION:EVENT HOSTED IN JACKSONVILLE ONLY \nAll parents are welcome to join us every 2nd and 4th Monday for our Parent Support Group\, where we discuss real struggles facing parents like you! \nFood is provided for participants and childcare. Childcare is available on site but must be reserved ahead of time. \nTo sign up and reserve childcare\, call/text us at 217-440-5901 or fill out the form below. \nFirst Name *Last Name *Phone *Email AddressStreet AddressApartment\, suite\, etcCityState/ProvinceZIP / Postal CodeDo you need childcare for this event?Please select oneYesNoList the ages of the children that will be attendingNotes Submit RegistrationPlease do not fill in this field. Please do not fill in this field. Please do not fill in this field.
URL:https://bellaease.com/event/jacksonville-psg-10-27-25/
LOCATION:IL
CATEGORIES:Family Services,Jacksonville
ATTACH;FMTTYPE=image/png:https://bellaease.com/wp-content/uploads/2025/03/Parent-Support-Group-16-x-9-in.png
END:VEVENT
BEGIN:VEVENT
DTSTART;TZID=America/Chicago:20251013T183000
DTEND;TZID=America/Chicago:20251013T193000
DTSTAMP:20260423T172526
CREATED:20251002T013351Z
LAST-MODIFIED:20251002T013351Z
UID:14735-1760380200-1760383800@bellaease.com
SUMMARY:Jacksonville Parent Support Group
DESCRIPTION:EVENT HOSTED IN JACKSONVILLE ONLY \nAll parents are welcome to join us every 2nd and 4th Monday for our Parent Support Group\, where we discuss real struggles facing parents like you! \nFood is provided for participants and childcare. Childcare is available on site but must be reserved ahead of time. \nTo sign up and reserve childcare\, call/text us at 217-440-5901 or fill out the form below. \nFirst Name *Last Name *Phone *Email AddressStreet AddressApartment\, suite\, etcCityState/ProvinceZIP / Postal CodeDo you need childcare for this event?Please select oneYesNoList the ages of the children that will be attendingNotes Submit RegistrationPlease do not fill in this field. Please do not fill in this field. Please do not fill in this field. Please do not fill in this field.
URL:https://bellaease.com/event/jacksonville-psg-10-13-25/
LOCATION:IL
CATEGORIES:Family Services,Jacksonville
ATTACH;FMTTYPE=image/png:https://bellaease.com/wp-content/uploads/2025/03/Parent-Support-Group-16-x-9-in.png
END:VEVENT
BEGIN:VEVENT
DTSTART;TZID=America/Chicago:20250930T180000
DTEND;TZID=America/Chicago:20250930T200000
DTSTAMP:20260423T172526
CREATED:20250818T185719Z
LAST-MODIFIED:20250916T213558Z
UID:14675-1759255200-1759262400@bellaease.com
SUMMARY:Community Discussion for Foster Parents & Caregivers - Jacksonville
DESCRIPTION:EVENT HOSTED IN JACKSONVILLE \nFoster parents and caregivers are invited to join us for a free dinner and discussion. \nThe Resilient Families Project is working to identify current resources and existing needs for foster parents and families involved with the child welfare system. Whether you’ve provided a home for a child in the past or you’re currently caring for children\, we need your voice at the table. Our goal is use this information to create a plan that will increase support and resources for your family. \nSome of the questions we’ll discuss include: \n\nWhat resources are most helpful?\nWhat resources are most needed?\nWhat’s working and what isn’t?\n\nFree dinner and childcare will be provided to those who register with the form below. \nFirst Name *Last Name *Phone *Email AddressStreet AddressApartment\, suite\, etcCityState/ProvinceZIP / Postal CodeIn what location will you attend this event? *Please select oneQuincyJacksonvilleDo you need childcare for this event? *Please select oneYesNoList the ages of the children that will be attendingNotes Submit RegistrationPlease do not fill in this field.
URL:https://bellaease.com/event/caregivers-forum-jacksonville/
LOCATION:Jacksonville Location\, 307 E Morgan\, Jacksonville\, IL\, 62650\, United States
CATEGORIES:Community Services,Family Services,Jacksonville
ATTACH;FMTTYPE=image/png:https://bellaease.com/wp-content/uploads/2025/08/Resilient-Families-Project-Caregiver-Invite-3.png
END:VEVENT
BEGIN:VEVENT
DTSTART;TZID=America/Chicago:20250923T120000
DTEND;TZID=America/Chicago:20250923T140000
DTSTAMP:20260423T172526
CREATED:20250818T183731Z
LAST-MODIFIED:20250819T140503Z
UID:14671-1758628800-1758636000@bellaease.com
SUMMARY:Community Partners Forum - Jacksonville
DESCRIPTION:EVENT HOSTED IN JACKSONVILLE \nCommunity partners and service providers are invited to a free lunch and discussion. The Resilient Families Project is working to identify current resources and existing needs for foster parents and families involved with the child welfare system. We value your perspective and need your voice at the table. The forum will go through the following questions: \n\nWhat resources are most helpful?\nWhat resources are most needed?\nWhat’s working and what isn’t?\nHow can we strengthen communication and partnership to benefit all youth and families involved in the child welfare system?\n\nFree lunch will be provided to those who register with the form below. \nFirst Name *Last Name *Phone *Email AddressStreet AddressApartment\, suite\, etcCityState/ProvinceZIP / Postal CodeIn what location will you attend this event? *Please select oneQuincyJacksonvilleName of Agency/Organization *Notes Submit RegistrationPlease do not fill in this field.
URL:https://bellaease.com/event/community-partners-forum-9-23-25/
LOCATION:Jacksonville Location\, 307 E Morgan\, Jacksonville\, IL\, 62650\, United States
CATEGORIES:Community Services,Family Services,Jacksonville
ATTACH;FMTTYPE=image/png:https://bellaease.com/wp-content/uploads/2025/08/Resilient-Families-Community-Partner-Invite.png
END:VEVENT
BEGIN:VEVENT
DTSTART;TZID=America/Chicago:20250922T180000
DTEND;TZID=America/Chicago:20250922T190000
DTSTAMP:20260423T172526
CREATED:20250818T202931Z
LAST-MODIFIED:20250818T202931Z
UID:14692-1758564000-1758567600@bellaease.com
SUMMARY:Jacksonville Parent Support Group
DESCRIPTION:EVENT HOSTED IN JACKSONVILLE ONLY \nAll parents are welcome to join us every 2nd and 4th Monday for our Parent Support Group\, where we discuss real struggles facing parents like you! \nFood is provided for participants and childcare. Childcare is available on site but must be reserved ahead of time. \nTo sign up and reserve childcare\, call/text us at 217-440-5901 or fill out the form below. \nFirst Name *Last Name *Phone *Email AddressStreet AddressApartment\, suite\, etcCityState/ProvinceZIP / Postal CodeDo you need childcare for this event?Please select oneYesNoList the ages of the children that will be attendingNotes Submit RegistrationPlease do not fill in this field. Please do not fill in this field. Please do not fill in this field. Please do not fill in this field. Please do not fill in this field.
URL:https://bellaease.com/event/jacksonville-psg-9-22-25/
LOCATION:IL
CATEGORIES:Family Services,Jacksonville
ATTACH;FMTTYPE=image/png:https://bellaease.com/wp-content/uploads/2025/03/Parent-Support-Group-16-x-9-in.png
END:VEVENT
BEGIN:VEVENT
DTSTART;TZID=America/Chicago:20250908T180000
DTEND;TZID=America/Chicago:20250908T200000
DTSTAMP:20260423T172526
CREATED:20250818T200456Z
LAST-MODIFIED:20250819T140705Z
UID:14683-1757354400-1757361600@bellaease.com
SUMMARY:Community Discussion for Parents - Jacksonville
DESCRIPTION:EVENT HOSTED IN JACKSONVILLE \nParents who have experienced involvement with DCFS or a private agency are invited to join us for a free dinner and discussion. \nThe Resilient Families Project is working to identify current resources and existing needs for foster parents and families involved with the child welfare system. Whether your experience has been in the past or you currently have a case with DCFS or a private agency\, we need your voice at the table. \nSome of the questions we’ll discuss include: \n\nWhat resources are most helpful?\nWhat resources are most needed?\nWhat’s working and what isn’t?\n\nFree dinner and childcare will be provided to those who register with the form below. \nFirst Name *Last Name *Phone *Email AddressStreet AddressApartment\, suite\, etcCityState/ProvinceZIP / Postal CodeIn what location will you attend this event? *Please select oneQuincyJacksonvilleDo you need childcare for this event? *Please select oneYesNoList the ages of the children that will be attendingNotes Submit RegistrationPlease do not fill in this field.
URL:https://bellaease.com/event/community-forum-parents-quincy-2/
LOCATION:Jacksonville Location\, 307 E Morgan\, Jacksonville\, IL\, 62650\, United States
CATEGORIES:Community Services,Family Services,Jacksonville
ATTACH;FMTTYPE=image/png:https://bellaease.com/wp-content/uploads/2025/08/Resilient-Families-Parent-Invite.png
END:VEVENT
BEGIN:VEVENT
DTSTART;TZID=America/Chicago:20250825T180000
DTEND;TZID=America/Chicago:20250825T190000
DTSTAMP:20260423T172527
CREATED:20250717T165906Z
LAST-MODIFIED:20250717T165906Z
UID:14536-1756144800-1756148400@bellaease.com
SUMMARY:Jacksonville Parent Support Group
DESCRIPTION:EVENT HOSTED IN JACKSONVILLE ONLY \nAll parents are welcome to join us every 2nd and 4th Monday for our Parent Support Group\, where we discuss real struggles facing parents like you! \nFood is provided for participants and childcare. Childcare is available on site but must be reserved ahead of time. \nTo sign up and reserve childcare\, call/text us at 217-440-5901 or fill out the form below. \nFirst Name *Last Name *Phone *Email AddressStreet AddressApartment\, suite\, etcCityState/ProvinceZIP / Postal CodeDo you need childcare for this event?Please select oneYesNoList the ages of the children that will be attendingNotes Submit RegistrationPlease do not fill in this field. Please do not fill in this field. Please do not fill in this field. Please do not fill in this field. Please do not fill in this field. Please do not fill in this field.
URL:https://bellaease.com/event/jacksonville-psg-8-25-25/
LOCATION:IL
CATEGORIES:Family Services,Jacksonville
ATTACH;FMTTYPE=image/png:https://bellaease.com/wp-content/uploads/2025/03/Parent-Support-Group-16-x-9-in.png
END:VEVENT
BEGIN:VEVENT
DTSTART;TZID=America/Chicago:20250811T180000
DTEND;TZID=America/Chicago:20250811T190000
DTSTAMP:20260423T172527
CREATED:20250717T165720Z
LAST-MODIFIED:20250717T165720Z
UID:14530-1754935200-1754938800@bellaease.com
SUMMARY:Jacksonville Parent Support Group
DESCRIPTION:EVENT HOSTED IN JACKSONVILLE ONLY \nAll parents are welcome to join us every 2nd and 4th Monday for our Parent Support Group\, where we discuss real struggles facing parents like you! \nFood is provided for participants and childcare. Childcare is available on site but must be reserved ahead of time. \nTo sign up and reserve childcare\, call/text us at 217-440-5901 or fill out the form below. \nFirst Name *Last Name *Phone *Email AddressStreet AddressApartment\, suite\, etcCityState/ProvinceZIP / Postal CodeDo you need childcare for this event?Please select oneYesNoList the ages of the children that will be attendingNotes Submit RegistrationPlease do not fill in this field. Please do not fill in this field. Please do not fill in this field. Please do not fill in this field. Please do not fill in this field. Please do not fill in this field. Please do not fill in this field.
URL:https://bellaease.com/event/jacksonville-psg-8-11-25/
LOCATION:IL
CATEGORIES:Family Services,Jacksonville
ATTACH;FMTTYPE=image/png:https://bellaease.com/wp-content/uploads/2025/03/Parent-Support-Group-16-x-9-in.png
END:VEVENT
BEGIN:VEVENT
DTSTART;TZID=America/Chicago:20250728T180000
DTEND;TZID=America/Chicago:20250728T190000
DTSTAMP:20260423T172527
CREATED:20250702T222011Z
LAST-MODIFIED:20250702T222021Z
UID:14516-1753725600-1753729200@bellaease.com
SUMMARY:Jacksonville Parent Support Group
DESCRIPTION:EVENT HOSTED IN JACKSONVILLE ONLY \nAll parents are welcome to join us every 2nd and 4th Monday for our Parent Support Group\, where we discuss real struggles facing parents like you! \nFood is provided for participants and childcare. Childcare is available on site but must be reserved ahead of time. \nTo sign up and reserve childcare\, call/text us at 217-440-5901 or fill out the form below. \nFirst Name *Last Name *Phone *Email AddressStreet AddressApartment\, suite\, etcCityState/ProvinceZIP / Postal CodeDo you need childcare for this event?Please select oneYesNoList the ages of the children that will be attendingNotes Submit RegistrationPlease do not fill in this field. Please do not fill in this field. Please do not fill in this field. Please do not fill in this field. Please do not fill in this field. Please do not fill in this field. Please do not fill in this field. Please do not fill in this field.
URL:https://bellaease.com/event/jacksonville-psg-7-28-25/
LOCATION:IL
CATEGORIES:Family Services,Jacksonville
ATTACH;FMTTYPE=image/png:https://bellaease.com/wp-content/uploads/2025/03/Parent-Support-Group-16-x-9-in.png
END:VEVENT
BEGIN:VEVENT
DTSTART;TZID=America/Chicago:20250714T180000
DTEND;TZID=America/Chicago:20250714T190000
DTSTAMP:20260423T172527
CREATED:20250702T221747Z
LAST-MODIFIED:20250702T221747Z
UID:14510-1752516000-1752519600@bellaease.com
SUMMARY:Jacksonville Parent Support Group
DESCRIPTION:EVENT HOSTED IN JACKSONVILLE ONLY \nAll parents are welcome to join us every 2nd and 4th Monday for our Parent Support Group\, where we discuss real struggles facing parents like you! \nFood is provided for participants and childcare. Childcare is available on site but must be reserved ahead of time. \nTo sign up and reserve childcare\, call/text us at 217-440-5901 or fill out the form below. \nFirst Name *Last Name *Phone *Email AddressStreet AddressApartment\, suite\, etcCityState/ProvinceZIP / Postal CodeDo you need childcare for this event?Please select oneYesNoList the ages of the children that will be attendingNotes Submit RegistrationPlease do not fill in this field. Please do not fill in this field. Please do not fill in this field. Please do not fill in this field. Please do not fill in this field. Please do not fill in this field. Please do not fill in this field. Please do not fill in this field. Please do not fill in this field.
URL:https://bellaease.com/event/jacksonville-psg-7-14-25/
LOCATION:IL
CATEGORIES:Family Services,Jacksonville
ATTACH;FMTTYPE=image/png:https://bellaease.com/wp-content/uploads/2025/03/Parent-Support-Group-16-x-9-in.png
END:VEVENT
BEGIN:VEVENT
DTSTART;TZID=America/Chicago:20250623T180000
DTEND;TZID=America/Chicago:20250623T190000
DTSTAMP:20260423T172528
CREATED:20250522T154351Z
LAST-MODIFIED:20250522T154351Z
UID:14483-1750701600-1750705200@bellaease.com
SUMMARY:Jacksonville Parent Support Group
DESCRIPTION:EVENT HOSTED IN JACKSONVILLE ONLY \nAll parents are welcome to join us every 2nd and 4th Monday for our Parent Support Group\, where we discuss real struggles facing parents like you! \nFood is provided for participants and childcare. Childcare is available on site but must be reserved ahead of time. \nTo sign up and reserve childcare\, call/text us at 217-440-5901 or fill out the form below. \nFirst Name *Last Name *Phone *Email AddressStreet AddressApartment\, suite\, etcCityState/ProvinceZIP / Postal CodeDo you need childcare for this event?Please select oneYesNoList the ages of the children that will be attendingNotes Submit RegistrationPlease do not fill in this field. Please do not fill in this field. Please do not fill in this field. Please do not fill in this field. Please do not fill in this field. Please do not fill in this field. Please do not fill in this field. Please do not fill in this field. Please do not fill in this field. Please do not fill in this field.
URL:https://bellaease.com/event/jacksonville-psg-6-23-25/
LOCATION:IL
CATEGORIES:Family Services,Jacksonville
ATTACH;FMTTYPE=image/png:https://bellaease.com/wp-content/uploads/2025/03/Parent-Support-Group-16-x-9-in.png
END:VEVENT
BEGIN:VEVENT
DTSTART;TZID=America/Chicago:20250609T180000
DTEND;TZID=America/Chicago:20250609T190000
DTSTAMP:20260423T172528
CREATED:20250522T152220Z
LAST-MODIFIED:20250522T152220Z
UID:14474-1749492000-1749495600@bellaease.com
SUMMARY:Jacksonville Parent Support Group
DESCRIPTION:EVENT HOSTED IN JACKSONVILLE ONLY \nAll parents are welcome to join us every 2nd and 4th Monday for our Parent Support Group\, where we discuss real struggles facing parents like you! \nFood is provided for participants and childcare. Childcare is available on site but must be reserved ahead of time. \nTo sign up and reserve childcare\, call/text us at 217-440-5901 or fill out the form below. \nFirst Name *Last Name *Phone *Email AddressStreet AddressApartment\, suite\, etcCityState/ProvinceZIP / Postal CodeDo you need childcare for this event?Please select oneYesNoList the ages of the children that will be attendingNotes Submit RegistrationPlease do not fill in this field. Please do not fill in this field. Please do not fill in this field. Please do not fill in this field. Please do not fill in this field. Please do not fill in this field. Please do not fill in this field. Please do not fill in this field. Please do not fill in this field. Please do not fill in this field. Please do not fill in this field.
URL:https://bellaease.com/event/jacksonville-psg-6-9-25/
LOCATION:IL
CATEGORIES:Family Services,Jacksonville
ATTACH;FMTTYPE=image/png:https://bellaease.com/wp-content/uploads/2025/03/Parent-Support-Group-16-x-9-in.png
END:VEVENT
END:VCALENDAR