BEGIN:VCALENDAR
VERSION:2.0
PRODID:-//Bella Ease - ECPv6.15.20//NONSGML v1.0//EN
CALSCALE:GREGORIAN
METHOD:PUBLISH
X-ORIGINAL-URL:https://bellaease.com
X-WR-CALDESC:Events for Bella Ease
REFRESH-INTERVAL;VALUE=DURATION:PT1H
X-Robots-Tag:noindex
X-PUBLISHED-TTL:PT1H
BEGIN:VTIMEZONE
TZID:America/Chicago
BEGIN:DAYLIGHT
TZOFFSETFROM:-0600
TZOFFSETTO:-0500
TZNAME:CDT
DTSTART:20240310T080000
END:DAYLIGHT
BEGIN:STANDARD
TZOFFSETFROM:-0500
TZOFFSETTO:-0600
TZNAME:CST
DTSTART:20241103T070000
END:STANDARD
BEGIN:DAYLIGHT
TZOFFSETFROM:-0600
TZOFFSETTO:-0500
TZNAME:CDT
DTSTART:20250309T080000
END:DAYLIGHT
BEGIN:STANDARD
TZOFFSETFROM:-0500
TZOFFSETTO:-0600
TZNAME:CST
DTSTART:20251102T070000
END:STANDARD
BEGIN:DAYLIGHT
TZOFFSETFROM:-0600
TZOFFSETTO:-0500
TZNAME:CDT
DTSTART:20260308T080000
END:DAYLIGHT
BEGIN:STANDARD
TZOFFSETFROM:-0500
TZOFFSETTO:-0600
TZNAME:CST
DTSTART:20261101T070000
END:STANDARD
BEGIN:DAYLIGHT
TZOFFSETFROM:-0600
TZOFFSETTO:-0500
TZNAME:CDT
DTSTART:20270314T080000
END:DAYLIGHT
BEGIN:STANDARD
TZOFFSETFROM:-0500
TZOFFSETTO:-0600
TZNAME:CST
DTSTART:20271107T070000
END:STANDARD
END:VTIMEZONE
BEGIN:VEVENT
DTSTART;VALUE=DATE:20251223
DTEND;VALUE=DATE:20251227
DTSTAMP:20260424T112836
CREATED:20251205T211644Z
LAST-MODIFIED:20251222T225254Z
UID:14972-1766448000-1766793599@bellaease.com
SUMMARY:Closed for Christmas
DESCRIPTION:All Bella Ease programs and offices will be closed from Tuesday\, December 23rd through Friday\, December 26th in observation of Christmas. \nAll offices and programs will reopen on Monday\, December 29th.
URL:https://bellaease.com/event/closed-for-christmas/
LOCATION:IL
CATEGORIES:Beardstown,Bella Ease,Jacksonville,Quincy
ATTACH;FMTTYPE=image/jpeg:https://bellaease.com/wp-content/uploads/2025/12/December-23rd-26th-16-x-9-in.jpg
END:VEVENT
BEGIN:VEVENT
DTSTART;VALUE=DATE:20251231
DTEND;VALUE=DATE:20260102
DTSTAMP:20260424T112836
CREATED:20251205T212226Z
LAST-MODIFIED:20251205T212510Z
UID:14975-1767139200-1767311999@bellaease.com
SUMMARY:Closed for the New Year
DESCRIPTION:All Bella Ease programs and offices will be closed on Wednesday\, December 31st and Thursday\, January 1st in observation of the New Year. \nAll offices and programs will reopen on Friday\, January 2nd.
URL:https://bellaease.com/event/closed-for-new-year/
LOCATION:IL
CATEGORIES:Beardstown,Bella Ease,Jacksonville,Pittsfield,Quincy
ATTACH;FMTTYPE=image/jpeg:https://bellaease.com/wp-content/uploads/2025/12/December-23rd-26th-16-x-9-in-1.jpg
END:VEVENT
BEGIN:VEVENT
DTSTART;TZID=America/Chicago:20260112T183000
DTEND;TZID=America/Chicago:20260112T193000
DTSTAMP:20260424T112836
CREATED:20251222T225543Z
LAST-MODIFIED:20251222T225543Z
UID:15012-1768242600-1768246200@bellaease.com
SUMMARY:Jacksonville Parent Support Group
DESCRIPTION:EVENT HOSTED IN JACKSONVILLE ONLY \nAll parents are welcome to join us every 2nd and 4th Monday for our Parent Support Group\, where we discuss real struggles facing parents like you! \nFood is provided for participants and childcare. Childcare is available on site but must be reserved ahead of time. \nTo sign up and reserve childcare\, call/text us at 217-440-5901 or fill out the form below. \nFirst Name *Last Name *Phone *Email AddressStreet AddressApartment\, suite\, etcCityState/ProvinceZIP / Postal CodeDo you need childcare for this event?Please select oneYesNoList the ages of the children that will be attendingNotes Submit RegistrationPlease do not fill in this field.
URL:https://bellaease.com/event/jacksonville-psg-1-12-26/
LOCATION:Jacksonville Location\, 307 E Morgan\, Jacksonville\, IL\, 62650\, United States
CATEGORIES:Family Services,Jacksonville
ATTACH;FMTTYPE=image/png:https://bellaease.com/wp-content/uploads/2025/03/Parent-Support-Group-16-x-9-in.png
END:VEVENT
BEGIN:VEVENT
DTSTART;VALUE=DATE:20260119
DTEND;VALUE=DATE:20260120
DTSTAMP:20260424T112836
CREATED:20251222T231447Z
LAST-MODIFIED:20251222T231447Z
UID:15033-1768780800-1768867199@bellaease.com
SUMMARY:Closed for MLK Day
DESCRIPTION:All Bella Ease offices will be closed on Monday\, January 19th in observance of the Martin Luther King Jr Day. \nAll offices and programs will reopen on Tuesday\, January 20th.
URL:https://bellaease.com/event/closed-mlk2026/
LOCATION:IL
CATEGORIES:Beardstown,Bella Ease,Jacksonville,Quincy
ATTACH;FMTTYPE=image/png:https://bellaease.com/wp-content/uploads/2025/12/Closed-MLK-Day-2026.png
END:VEVENT
BEGIN:VEVENT
DTSTART;TZID=America/Chicago:20260126T183000
DTEND;TZID=America/Chicago:20260126T193000
DTSTAMP:20260424T112836
CREATED:20251222T230633Z
LAST-MODIFIED:20251222T230633Z
UID:15029-1769452200-1769455800@bellaease.com
SUMMARY:Jacksonville Parent Support Group
DESCRIPTION:EVENT HOSTED IN JACKSONVILLE ONLY \nAll parents are welcome to join us every 2nd and 4th Monday for our Parent Support Group\, where we discuss real struggles facing parents like you! \nFood is provided for participants and childcare. Childcare is available on site but must be reserved ahead of time. \nTo sign up and reserve childcare\, call/text us at 217-440-5901 or fill out the form below. \nFirst Name *Last Name *Phone *Email AddressStreet AddressApartment\, suite\, etcCityState/ProvinceZIP / Postal CodeDo you need childcare for this event?Please select oneYesNoList the ages of the children that will be attendingNotes Submit RegistrationPlease do not fill in this field. Please do not fill in this field.
URL:https://bellaease.com/event/jacksonville-psg-1-26-26/
LOCATION:Jacksonville Location\, 307 E Morgan\, Jacksonville\, IL\, 62650\, United States
CATEGORIES:Family Services,Jacksonville
ATTACH;FMTTYPE=image/png:https://bellaease.com/wp-content/uploads/2025/03/Parent-Support-Group-16-x-9-in.png
END:VEVENT
BEGIN:VEVENT
DTSTART;TZID=America/Chicago:20260209T183000
DTEND;TZID=America/Chicago:20260209T193000
DTSTAMP:20260424T112836
CREATED:20260116T233756Z
LAST-MODIFIED:20260116T233756Z
UID:15053-1770661800-1770665400@bellaease.com
SUMMARY:Jacksonville Parent Support Group
DESCRIPTION:EVENT HOSTED IN JACKSONVILLE ONLY \nAll parents are welcome to join us every 2nd and 4th Monday for our Parent Support Group\, where we discuss real struggles facing parents like you! \nFood is provided for participants and childcare. Childcare is available on site but must be reserved ahead of time. \nTo sign up and reserve childcare\, call/text us at 217-440-5901 or fill out the form below. \nFirst Name *Last Name *Phone *Email AddressStreet AddressApartment\, suite\, etcCityState/ProvinceZIP / Postal CodeDo you need childcare for this event?Please select oneYesNoList the ages of the children that will be attendingNotes Submit RegistrationPlease do not fill in this field. Please do not fill in this field. Please do not fill in this field.
URL:https://bellaease.com/event/jacksonville-psg-2-9-26/
LOCATION:Jacksonville Location\, 307 E Morgan\, Jacksonville\, IL\, 62650\, United States
CATEGORIES:Family Services,Jacksonville
ATTACH;FMTTYPE=image/png:https://bellaease.com/wp-content/uploads/2025/03/Parent-Support-Group-16-x-9-in.png
END:VEVENT
BEGIN:VEVENT
DTSTART;TZID=America/Chicago:20260223T183000
DTEND;TZID=America/Chicago:20260223T193000
DTSTAMP:20260424T112836
CREATED:20260116T234022Z
LAST-MODIFIED:20260116T234022Z
UID:15059-1771871400-1771875000@bellaease.com
SUMMARY:Jacksonville Parent Support Group
DESCRIPTION:EVENT HOSTED IN JACKSONVILLE ONLY \nAll parents are welcome to join us every 2nd and 4th Monday for our Parent Support Group\, where we discuss real struggles facing parents like you! \nFood is provided for participants and childcare. Childcare is available on site but must be reserved ahead of time. \nTo sign up and reserve childcare\, call/text us at 217-440-5901 or fill out the form below. \nFirst Name *Last Name *Phone *Email AddressStreet AddressApartment\, suite\, etcCityState/ProvinceZIP / Postal CodeDo you need childcare for this event?Please select oneYesNoList the ages of the children that will be attendingNotes Submit RegistrationPlease do not fill in this field. Please do not fill in this field. Please do not fill in this field. Please do not fill in this field.
URL:https://bellaease.com/event/jacksonville-psg-2-23-26/
LOCATION:Jacksonville Location\, 307 E Morgan\, Jacksonville\, IL\, 62650\, United States
CATEGORIES:Family Services,Jacksonville
ATTACH;FMTTYPE=image/png:https://bellaease.com/wp-content/uploads/2025/03/Parent-Support-Group-16-x-9-in.png
END:VEVENT
BEGIN:VEVENT
DTSTART;TZID=America/Chicago:20260309T183000
DTEND;TZID=America/Chicago:20260309T193000
DTSTAMP:20260424T112836
CREATED:20260226T171005Z
LAST-MODIFIED:20260226T171005Z
UID:15088-1773081000-1773084600@bellaease.com
SUMMARY:Jacksonville Parent Support Group
DESCRIPTION:EVENT HOSTED IN JACKSONVILLE ONLY \nAll parents are welcome to join us every 2nd and 4th Monday for our Parent Support Group\, where we discuss real struggles facing parents like you! \nFood is provided for participants and childcare. Childcare is available on site but must be reserved ahead of time. \nTo sign up and reserve childcare\, call/text us at 217-440-5901 or fill out the form below. \nFirst Name *Last Name *Phone *Email AddressStreet AddressApartment\, suite\, etcCityState/ProvinceZIP / Postal CodeDo you need childcare for this event?Please select oneYesNoList the ages of the children that will be attendingNotes Submit RegistrationPlease do not fill in this field. Please do not fill in this field. Please do not fill in this field. Please do not fill in this field. Please do not fill in this field.
URL:https://bellaease.com/event/jacksonville-psg-3-9-26/
LOCATION:Jacksonville Location\, 307 E Morgan\, Jacksonville\, IL\, 62650\, United States
CATEGORIES:Family Services,Jacksonville
ATTACH;FMTTYPE=image/png:https://bellaease.com/wp-content/uploads/2025/03/Parent-Support-Group-16-x-9-in.png
END:VEVENT
BEGIN:VEVENT
DTSTART;TZID=America/Chicago:20260323T180000
DTEND;TZID=America/Chicago:20260323T200000
DTSTAMP:20260424T112836
CREATED:20260310T153745Z
LAST-MODIFIED:20260318T215943Z
UID:15137-1774288800-1774296000@bellaease.com
SUMMARY:Be Strong Parent Cafe - Jacksonville
DESCRIPTION:EVENT HOSTED IN JACKSONVILLE \nRESCHEDULED DUE TO WEATHER \nPlant seeds of connection and watch your family bloom at this Parent Cafe! Through conversations we’ll explore how strong relationships help families grow. Great parenting is part natural\, part learned\, and everyone needs support sometimes. Come share\, learn\, and cultivate something meaningful! \nFood is provided for participants and childcare. Childcare is available on site but must be reserved ahead of time. To sign up\, fill out the form below. \nFor more information\, contact Dorinda Smith (dorinda@bellaease.com) or Morgan Harvey (morgan@bestrongfamilies.net) \nFirst Name *Last Name *Phone *Email AddressStreet AddressApartment\, suite\, etcCityState/ProvinceZIP / Postal CodeIn what city will you be attending this event? *Please select oneQuincyJacksonvilleDo you need childcare for this event? *Please select oneYesNoList the names & ages of the children needing childcareNotes Submit RegistrationPlease do not fill in this field.
URL:https://bellaease.com/event/be-strong-3-16-26/
LOCATION:Jacksonville Location\, 307 E Morgan\, Jacksonville\, IL\, 62650\, United States
CATEGORIES:Family Services,Jacksonville
ATTACH;FMTTYPE=image/png:https://bellaease.com/wp-content/uploads/2026/03/Parent-Cafe-3.16.26.png
END:VEVENT
BEGIN:VEVENT
DTSTART;TZID=America/Chicago:20260325T173000
DTEND;TZID=America/Chicago:20260325T190000
DTSTAMP:20260424T112837
CREATED:20260226T174557Z
LAST-MODIFIED:20260226T175330Z
UID:15098-1774459800-1774465200@bellaease.com
SUMMARY:Legal Workshop: Juvenile Court
DESCRIPTION:EVENT HOSTED IN JACKSONVILLE ONLY \nEveryone is welcome to join us for 4 Legal Workshops\, where we discuss the court process and your legal rights with local attorneys. \nFood and childcare is provided for participants who RSVP ahead of time. \nTo sign up and reserve childcare\, call us at 217-209-0632 or fill out the form below. \nFirst Name *Last Name *Phone *Email AddressStreet AddressApartment\, suite\, etcCityState/ProvinceZIP / Postal CodeWhat workshops are you wanting to attend?March 25 (Juvenile Court: DCFS Cases/Juvenile Delinquency)April 16 (Family Law\, Child Custody\, & Visitation)May 6 (DUI & Traffic Law)May 20 (Landlord & Tenant Rights)Please select as many as you want.Do you need childcare for this event?Please select oneYesNoList the ages of the children that will be attendingNotes Submit RegistrationPlease do not fill in this field.
URL:https://bellaease.com/event/legal-workshop-juvenile-court/
LOCATION:Jacksonville Location\, 307 E Morgan\, Jacksonville\, IL\, 62650\, United States
CATEGORIES:Community Services,Family Services,Jacksonville
ATTACH;FMTTYPE=image/png:https://bellaease.com/wp-content/uploads/2026/02/Legal-Workshop-March-25.png
END:VEVENT
BEGIN:VEVENT
DTSTART;VALUE=DATE:20260403
DTEND;VALUE=DATE:20260404
DTSTAMP:20260424T112837
CREATED:20260226T180451Z
LAST-MODIFIED:20260226T180451Z
UID:15116-1775174400-1775260799@bellaease.com
SUMMARY:Closed for Easter
DESCRIPTION:All Bella Ease offices will be closed on Friday\, April 3rd in observance of Good Friday and Easter. \nAll offices and programs will reopen on Monday\, April 6th.
URL:https://bellaease.com/event/closed-for-easter/
LOCATION:IL
CATEGORIES:Beardstown,Bella Ease,Jacksonville,Quincy
ATTACH;FMTTYPE=image/png:https://bellaease.com/wp-content/uploads/2026/02/Closed-Easter-2026.png
END:VEVENT
BEGIN:VEVENT
DTSTART;TZID=America/Chicago:20260416T173000
DTEND;TZID=America/Chicago:20260416T190000
DTSTAMP:20260424T112837
CREATED:20260226T175436Z
LAST-MODIFIED:20260226T175615Z
UID:15107-1776360600-1776366000@bellaease.com
SUMMARY:Legal Workshop: Family Law
DESCRIPTION:EVENT HOSTED IN JACKSONVILLE ONLY \nEveryone is welcome to join us for 4 Legal Workshops\, where we discuss the court process and your legal rights with local attorneys. \nFood and childcare is provided for participants who RSVP ahead of time. \nTo sign up and reserve childcare\, call us at 217-209-0632 or fill out the form below. \nFirst Name *Last Name *Phone *Email AddressStreet AddressApartment\, suite\, etcCityState/ProvinceZIP / Postal CodeWhat workshops are you wanting to attend?March 25 (Juvenile Court: DCFS Cases/Juvenile Delinquency)April 16 (Family Law\, Child Custody\, & Visitation)May 6 (DUI & Traffic Law)May 20 (Landlord & Tenant Rights)Please select as many as you want.Do you need childcare for this event?Please select oneYesNoList the ages of the children that will be attendingNotes Submit RegistrationPlease do not fill in this field. Please do not fill in this field.
URL:https://bellaease.com/event/legal-workshop-4-16-26/
LOCATION:Jacksonville Location\, 307 E Morgan\, Jacksonville\, IL\, 62650\, United States
CATEGORIES:Community Services,Family Services,Jacksonville
ATTACH;FMTTYPE=image/png:https://bellaease.com/wp-content/uploads/2026/02/Legal-Workshop-April-16.png
END:VEVENT
BEGIN:VEVENT
DTSTART;TZID=America/Chicago:20260427T183000
DTEND;TZID=America/Chicago:20260427T193000
DTSTAMP:20260424T112837
CREATED:20260423T160707Z
LAST-MODIFIED:20260423T160716Z
UID:15184-1777314600-1777318200@bellaease.com
SUMMARY:Jacksonville Parent Support Group
DESCRIPTION:EVENT HOSTED IN JACKSONVILLE ONLY \nAll parents are welcome to join us every 2nd and 4th Monday for our Parent Support Group\, where we discuss real struggles facing parents like you! \nFood is provided for participants and childcare. Childcare is available on site but must be reserved ahead of time. \nTo sign up and reserve childcare\, call/text us at 217-440-5901 or fill out the form below. \nFirst Name *Last Name *Phone *Email AddressStreet AddressApartment\, suite\, etcCityState/ProvinceZIP / Postal CodeDo you need childcare for this event?Please select oneYesNoList the ages of the children that will be attendingNotes Submit RegistrationPlease do not fill in this field. Please do not fill in this field. Please do not fill in this field. Please do not fill in this field. Please do not fill in this field. Please do not fill in this field.
URL:https://bellaease.com/event/jacksonville-psg-4-27-26/
LOCATION:Jacksonville Location\, 307 E Morgan\, Jacksonville\, IL\, 62650\, United States
CATEGORIES:Family Services,Jacksonville
ATTACH;FMTTYPE=image/png:https://bellaease.com/wp-content/uploads/2025/03/Parent-Support-Group-16-x-9-in.png
END:VEVENT
BEGIN:VEVENT
DTSTART;TZID=America/Chicago:20260506T173000
DTEND;TZID=America/Chicago:20260506T190000
DTSTAMP:20260424T112837
CREATED:20260326T165449Z
LAST-MODIFIED:20260226T175554Z
UID:15109-1778088600-1778094000@bellaease.com
SUMMARY:Legal Workshop: DUI & Traffic Law
DESCRIPTION:EVENT HOSTED IN JACKSONVILLE ONLY \nEveryone is welcome to join us for 4 Legal Workshops\, where we discuss the court process and your legal rights with local attorneys. \nFood and childcare is provided for participants who RSVP ahead of time. \nTo sign up and reserve childcare\, call us at 217-209-0632 or fill out the form below. \nFirst Name *Last Name *Phone *Email AddressStreet AddressApartment\, suite\, etcCityState/ProvinceZIP / Postal CodeWhat workshops are you wanting to attend?March 25 (Juvenile Court: DCFS Cases/Juvenile Delinquency)April 16 (Family Law\, Child Custody\, & Visitation)May 6 (DUI & Traffic Law)May 20 (Landlord & Tenant Rights)Please select as many as you want.Do you need childcare for this event?Please select oneYesNoList the ages of the children that will be attendingNotes Submit RegistrationPlease do not fill in this field. Please do not fill in this field. Please do not fill in this field.
URL:https://bellaease.com/event/legal-workshop-5-6-26/
LOCATION:Jacksonville Location\, 307 E Morgan\, Jacksonville\, IL\, 62650\, United States
CATEGORIES:Community Services,Family Services,Jacksonville
ATTACH;FMTTYPE=image/png:https://bellaease.com/wp-content/uploads/2026/02/Legal-Workshop-May-6.png
END:VEVENT
BEGIN:VEVENT
DTSTART;TZID=America/Chicago:20260511T183000
DTEND;TZID=America/Chicago:20260511T193000
DTSTAMP:20260424T112837
CREATED:20260423T161038Z
LAST-MODIFIED:20260423T161038Z
UID:15190-1778524200-1778527800@bellaease.com
SUMMARY:Jacksonville Parent Support Group
DESCRIPTION:EVENT HOSTED IN JACKSONVILLE ONLY \nAll parents are welcome to join us every 2nd and 4th Monday for our Parent Support Group\, where we discuss real struggles facing parents like you! \nFood is provided for participants and childcare. Childcare is available on site but must be reserved ahead of time. \nTo sign up and reserve childcare\, call/text us at 217-440-5901 or fill out the form below. \nFirst Name *Last Name *Phone *Email AddressStreet AddressApartment\, suite\, etcCityState/ProvinceZIP / Postal CodeDo you need childcare for this event?Please select oneYesNoList the ages of the children that will be attendingNotes Submit RegistrationPlease do not fill in this field. Please do not fill in this field. Please do not fill in this field. Please do not fill in this field. Please do not fill in this field. Please do not fill in this field. Please do not fill in this field.
URL:https://bellaease.com/event/jacksonville-psg-5-11-26/
LOCATION:Jacksonville Location\, 307 E Morgan\, Jacksonville\, IL\, 62650\, United States
CATEGORIES:Family Services,Jacksonville
ATTACH;FMTTYPE=image/png:https://bellaease.com/wp-content/uploads/2025/03/Parent-Support-Group-16-x-9-in.png
END:VEVENT
BEGIN:VEVENT
DTSTART;TZID=America/Chicago:20260518T180000
DTEND;TZID=America/Chicago:20260518T200000
DTSTAMP:20260424T112837
CREATED:20260406T153811Z
LAST-MODIFIED:20260310T154016Z
UID:15140-1779127200-1779134400@bellaease.com
SUMMARY:Be Strong Parent Cafe - Jacksonville
DESCRIPTION:EVENT HOSTED IN JACKSONVILLE \nPlant seeds of connection and watch your family bloom at this Parent Cafe! Through conversations we’ll explore how strong relationships help families grow. Great parenting is part natural\, part learned\, and everyone needs support sometimes. Come share\, learn\, and cultivate something meaningful! \nFood is provided for participants and childcare. Childcare is available on site but must be reserved ahead of time. To sign up\, fill out the form below. \nFor more information\, contact Dorinda Smith (dorinda@bellaease.com) or Morgan Harvey (morgan@bestrongfamilies.net) \nFirst Name *Last Name *Phone *Email AddressStreet AddressApartment\, suite\, etcCityState/ProvinceZIP / Postal CodeIn what city will you be attending this event? *Please select oneQuincyJacksonvilleDo you need childcare for this event? *Please select oneYesNoList the names & ages of the children needing childcareNotes Submit RegistrationPlease do not fill in this field. Please do not fill in this field.
URL:https://bellaease.com/event/be-strong-5-18-26/
LOCATION:Jacksonville Location\, 307 E Morgan\, Jacksonville\, IL\, 62650\, United States
CATEGORIES:Family Services,Jacksonville
ATTACH;FMTTYPE=image/png:https://bellaease.com/wp-content/uploads/2026/03/Parent-Cafe-5.18.26.png
END:VEVENT
BEGIN:VEVENT
DTSTART;TZID=America/Chicago:20260520T173000
DTEND;TZID=America/Chicago:20260520T190000
DTSTAMP:20260424T112837
CREATED:20260415T165640Z
LAST-MODIFIED:20260226T175729Z
UID:15112-1779298200-1779303600@bellaease.com
SUMMARY:Legal Workshop: Landlord & Tenant Rights
DESCRIPTION:EVENT HOSTED IN JACKSONVILLE ONLY \nEveryone is welcome to join us for 4 Legal Workshops\, where we discuss the court process and your legal rights with local attorneys. \nFood and childcare is provided for participants who RSVP ahead of time. \nTo sign up and reserve childcare\, call us at 217-209-0632 or fill out the form below. \nFirst Name *Last Name *Phone *Email AddressStreet AddressApartment\, suite\, etcCityState/ProvinceZIP / Postal CodeWhat workshops are you wanting to attend?March 25 (Juvenile Court: DCFS Cases/Juvenile Delinquency)April 16 (Family Law\, Child Custody\, & Visitation)May 6 (DUI & Traffic Law)May 20 (Landlord & Tenant Rights)Please select as many as you want.Do you need childcare for this event?Please select oneYesNoList the ages of the children that will be attendingNotes Submit RegistrationPlease do not fill in this field. Please do not fill in this field. Please do not fill in this field. Please do not fill in this field.
URL:https://bellaease.com/event/legal-workshop-5-20-26/
LOCATION:Jacksonville Location\, 307 E Morgan\, Jacksonville\, IL\, 62650\, United States
CATEGORIES:Community Services,Family Services,Jacksonville
ATTACH;FMTTYPE=image/png:https://bellaease.com/wp-content/uploads/2026/02/Legal-Workshop-May-20.png
END:VEVENT
BEGIN:VEVENT
DTSTART;VALUE=DATE:20260525
DTEND;VALUE=DATE:20260526
DTSTAMP:20260424T112837
CREATED:20260423T162156Z
LAST-MODIFIED:20260423T162437Z
UID:15196-1779667200-1779753599@bellaease.com
SUMMARY:Closed for Memorial Day
DESCRIPTION:All Bella Ease offices will be closed on Monday\, May 25th in observance of Memorial Day. \nAll offices and programs will reopen on Tuesday\, May 26th.
URL:https://bellaease.com/event/closed-for-memorial-day/
LOCATION:IL
CATEGORIES:Beardstown,Bella Ease,Jacksonville,Quincy
ATTACH;FMTTYPE=image/png:https://bellaease.com/wp-content/uploads/2026/04/Closed-for-Memorial-Day-2026.png
END:VEVENT
END:VCALENDAR