BEGIN:VCALENDAR
VERSION:2.0
PRODID:-//Bella Ease - ECPv6.15.20//NONSGML v1.0//EN
CALSCALE:GREGORIAN
METHOD:PUBLISH
X-WR-CALNAME:Bella Ease
X-ORIGINAL-URL:https://bellaease.com
X-WR-CALDESC:Events for Bella Ease
REFRESH-INTERVAL;VALUE=DURATION:PT1H
X-Robots-Tag:noindex
X-PUBLISHED-TTL:PT1H
BEGIN:VTIMEZONE
TZID:America/Chicago
BEGIN:DAYLIGHT
TZOFFSETFROM:-0600
TZOFFSETTO:-0500
TZNAME:CDT
DTSTART:20250309T080000
END:DAYLIGHT
BEGIN:STANDARD
TZOFFSETFROM:-0500
TZOFFSETTO:-0600
TZNAME:CST
DTSTART:20251102T070000
END:STANDARD
BEGIN:DAYLIGHT
TZOFFSETFROM:-0600
TZOFFSETTO:-0500
TZNAME:CDT
DTSTART:20260308T080000
END:DAYLIGHT
BEGIN:STANDARD
TZOFFSETFROM:-0500
TZOFFSETTO:-0600
TZNAME:CST
DTSTART:20261101T070000
END:STANDARD
BEGIN:DAYLIGHT
TZOFFSETFROM:-0600
TZOFFSETTO:-0500
TZNAME:CDT
DTSTART:20270314T080000
END:DAYLIGHT
BEGIN:STANDARD
TZOFFSETFROM:-0500
TZOFFSETTO:-0600
TZNAME:CST
DTSTART:20271107T070000
END:STANDARD
END:VTIMEZONE
BEGIN:VEVENT
DTSTART;TZID=America/Chicago:20260506T180000
DTEND;TZID=America/Chicago:20260506T191500
DTSTAMP:20260423T141555
CREATED:20260423T160927Z
LAST-MODIFIED:20260423T160927Z
UID:15188-1778090400-1778094900@bellaease.com
SUMMARY:Family Circle
DESCRIPTION:EVENT HOSTED IN PITTSFIELD ONLY \nAre you raising grandchildren\, nieces/nephews\, or other relative children? We want to hear from you and learn how we can help. \nBring your questions\, challenges\, and successes. Get answers and resources while hearing from others with shared experiences. \nFree dinner and childcare provided to those who register with the form below. \nFirst Name *Last Name *Phone *Email AddressStreet AddressApartment\, suite\, etcCityState/ProvinceZIP / Postal CodeDo you need childcare for this event? *Please select oneYesNoList the ages of the children that will be attendingNotes Submit RegistrationPlease do not fill in this field.
URL:https://bellaease.com/event/family-circle-5-6-26/
LOCATION:JWCC Southeast Education Center\, 39637 260th Ave\, Pittsfield\, IL\, 62363\, United States
CATEGORIES:Family Services,Pittsfield
ATTACH;FMTTYPE=image/png:https://bellaease.com/wp-content/uploads/2025/04/Family-Circle-Generic-16-x-9-in.png
END:VEVENT
END:VCALENDAR