BEGIN:VCALENDAR
VERSION:2.0
PRODID:-//Bella Ease - ECPv6.15.20//NONSGML v1.0//EN
CALSCALE:GREGORIAN
METHOD:PUBLISH
X-ORIGINAL-URL:https://bellaease.com
X-WR-CALDESC:Events for Bella Ease
REFRESH-INTERVAL;VALUE=DURATION:PT1H
X-Robots-Tag:noindex
X-PUBLISHED-TTL:PT1H
BEGIN:VTIMEZONE
TZID:America/Chicago
BEGIN:DAYLIGHT
TZOFFSETFROM:-0600
TZOFFSETTO:-0500
TZNAME:CDT
DTSTART:20240310T080000
END:DAYLIGHT
BEGIN:STANDARD
TZOFFSETFROM:-0500
TZOFFSETTO:-0600
TZNAME:CST
DTSTART:20241103T070000
END:STANDARD
BEGIN:DAYLIGHT
TZOFFSETFROM:-0600
TZOFFSETTO:-0500
TZNAME:CDT
DTSTART:20250309T080000
END:DAYLIGHT
BEGIN:STANDARD
TZOFFSETFROM:-0500
TZOFFSETTO:-0600
TZNAME:CST
DTSTART:20251102T070000
END:STANDARD
BEGIN:DAYLIGHT
TZOFFSETFROM:-0600
TZOFFSETTO:-0500
TZNAME:CDT
DTSTART:20260308T080000
END:DAYLIGHT
BEGIN:STANDARD
TZOFFSETFROM:-0500
TZOFFSETTO:-0600
TZNAME:CST
DTSTART:20261101T070000
END:STANDARD
END:VTIMEZONE
BEGIN:VEVENT
DTSTART;TZID=America/Chicago:20251106T130000
DTEND;TZID=America/Chicago:20251106T160000
DTSTAMP:20260424T060404
CREATED:20251001T193510Z
LAST-MODIFIED:20250814T193554Z
UID:14640-1762434000-1762444800@bellaease.com
SUMMARY:GED Class Orientation
DESCRIPTION:EVENT HOSTED IN QUINCY ONLY \nWanting to get your GED? Sign up to start GED Classes with help from John Wood Community College teachers. \nFree childcare will be provided if you register by Friday\, October 31st. \nGo to this link below and look for the yellow button to sign up (see screenshot below). \nhttp://www.jwcc.edu/ged-literacy-esl/#ged \nOn JWCC’s site\, click this button to fill out their enrollment form:
URL:https://bellaease.com/event/ged-class-orientation-11-6-25/
LOCATION:Quincy – 721 Building\, 721 Broadway\, Quincy\, IL\, 62301\, United States
CATEGORIES:Community Services,Quincy
ATTACH;FMTTYPE=image/png:https://bellaease.com/wp-content/uploads/2025/08/GED-Classes-2025-16-x-9-in.png
END:VEVENT
BEGIN:VEVENT
DTSTART;TZID=America/Chicago:20251106T173000
DTEND;TZID=America/Chicago:20251106T183000
DTSTAMP:20260424T060404
CREATED:20251023T191327Z
LAST-MODIFIED:20251023T191327Z
UID:14763-1762450200-1762453800@bellaease.com
SUMMARY:Rescheduled: Tackling Technology
DESCRIPTION:EVENT HOSTED IN QUINCY ONLY \nThis is the make-up event from October 23rd. \nTechnology and social media – two things families are constantly battling. Leslie Vigor is back to talk about how to balance technology and social media without it becoming an all out war. \nThe workshop will be held at 721 Broadway (eastern building of Bella Ease’s facility) from 5:30 – 6:30 PM. Food and childcare will be provided. \nRegister using the form below. \nFirst Name *Last Name *Phone *Email AddressStreet AddressApartment\, suite\, etcCityState/ProvinceZIP / Postal CodeDo you need childcare for this event?Please select oneYesNoList the ages of the children that will be attendingNotes Submit Registration
URL:https://bellaease.com/event/rescheduled-tackling-technology/
LOCATION:Quincy – 721 Building\, 721 Broadway\, Quincy\, IL\, 62301\, United States
CATEGORIES:Community Services,Family Services,Quincy
ATTACH;FMTTYPE=image/png:https://bellaease.com/wp-content/uploads/2025/07/Tackling-Social-Media.png
END:VEVENT
BEGIN:VEVENT
DTSTART;TZID=America/Chicago:20251111T183000
DTEND;TZID=America/Chicago:20251111T193000
DTSTAMP:20260424T060404
CREATED:20251023T192255Z
LAST-MODIFIED:20251023T192255Z
UID:14770-1762885800-1762889400@bellaease.com
SUMMARY:Quincy Parent Support Group
DESCRIPTION:EVENT HOSTED IN QUINCY ONLY \nAll parents are welcome to join us every 2nd and 4th Tuesday for our Parent Support Group\, where we discuss real struggles facing parents like you! \nFood is provided for participants and childcare. Childcare is available on site but must be reserved ahead of time. \nTo sign up and reserve childcare\, call/text us at 217-440-5901 or fill out the form below. \nFirst Name *Last Name *Phone *Email AddressStreet AddressApartment\, suite\, etcCityState/ProvinceZIP / Postal CodeDo you need childcare for this event?Please select oneYesNoList the ages of the children that will be attendingNotes Submit RegistrationPlease do not fill in this field.
URL:https://bellaease.com/event/quincy-psg-11-11-25/
CATEGORIES:Family Services,Quincy
ATTACH;FMTTYPE=image/png:https://bellaease.com/wp-content/uploads/2025/03/Parent-Support-Group-16-x-9-in.png
END:VEVENT
BEGIN:VEVENT
DTSTART;TZID=America/Chicago:20251120T180000
DTEND;TZID=America/Chicago:20251120T193000
DTSTAMP:20260424T060404
CREATED:20251023T192403Z
LAST-MODIFIED:20251120T193739Z
UID:14772-1763661600-1763667000@bellaease.com
SUMMARY:CANCELLED: The Barbershop
DESCRIPTION:EVENT HOSTED IN QUINCY ONLY \nNovember 20th Barbershop group has been cancelled. Please check back next month for more events.
URL:https://bellaease.com/event/the-barbershop-11-20-25/
LOCATION:Quincy – 707 Location\, 707 Broadway\, Quincy\, IL\, 62301\, United States
CATEGORIES:Family Services,Quincy
ATTACH;FMTTYPE=image/png:https://bellaease.com/wp-content/uploads/2025/03/Barber-Shop-Cover.png
END:VEVENT
BEGIN:VEVENT
DTSTART;TZID=America/Chicago:20251120T180000
DTEND;TZID=America/Chicago:20251120T200000
DTSTAMP:20260424T060404
CREATED:20251001T184029Z
LAST-MODIFIED:20251113T221433Z
UID:14725-1763661600-1763668800@bellaease.com
SUMMARY:Rescheduled: Speaking Up
DESCRIPTION:EVENT HOSTED IN QUINCY ONLY \nAdvocating for your child can be difficult\, especially when you don’t feel heard. Come work with Macy Ferguson-Smith to learn how to speak up for your child in the school system. This workshop series will be held on the second Thursday of the month from September to December. \nThis free workshop will be held at 721 Broadway (eastern building of Bella Ease’s facility) from 6:00 – 7:00 PM. Food and childcare will be provided. \nRegister using the form below. \nFirst Name *Last Name *Phone *Email AddressStreet AddressApartment\, suite\, etcCityState/ProvinceZIP / Postal CodeDo you need childcare for this event?Please select oneYesNoList the ages of the children that will be attendingNotes Submit Registration
URL:https://bellaease.com/event/speaking-up-11-13/
LOCATION:Quincy – 721 Building\, 721 Broadway\, Quincy\, IL\, 62301\, United States
CATEGORIES:Community Services,Family Services,Quincy
ATTACH;FMTTYPE=image/png:https://bellaease.com/wp-content/uploads/2025/09/Speaking-Up-16-x-9-in.png
END:VEVENT
END:VCALENDAR