BEGIN:VCALENDAR
VERSION:2.0
PRODID:-//Bella Ease - ECPv6.15.20//NONSGML v1.0//EN
CALSCALE:GREGORIAN
METHOD:PUBLISH
X-ORIGINAL-URL:https://bellaease.com
X-WR-CALDESC:Events for Bella Ease
REFRESH-INTERVAL;VALUE=DURATION:PT1H
X-Robots-Tag:noindex
X-PUBLISHED-TTL:PT1H
BEGIN:VTIMEZONE
TZID:America/Chicago
BEGIN:DAYLIGHT
TZOFFSETFROM:-0600
TZOFFSETTO:-0500
TZNAME:CDT
DTSTART:20250309T080000
END:DAYLIGHT
BEGIN:STANDARD
TZOFFSETFROM:-0500
TZOFFSETTO:-0600
TZNAME:CST
DTSTART:20251102T070000
END:STANDARD
BEGIN:DAYLIGHT
TZOFFSETFROM:-0600
TZOFFSETTO:-0500
TZNAME:CDT
DTSTART:20260308T080000
END:DAYLIGHT
BEGIN:STANDARD
TZOFFSETFROM:-0500
TZOFFSETTO:-0600
TZNAME:CST
DTSTART:20261101T070000
END:STANDARD
BEGIN:DAYLIGHT
TZOFFSETFROM:-0600
TZOFFSETTO:-0500
TZNAME:CDT
DTSTART:20270314T080000
END:DAYLIGHT
BEGIN:STANDARD
TZOFFSETFROM:-0500
TZOFFSETTO:-0600
TZNAME:CST
DTSTART:20271107T070000
END:STANDARD
END:VTIMEZONE
BEGIN:VEVENT
DTSTART;TZID=America/Chicago:20260428T183000
DTEND;TZID=America/Chicago:20260428T193000
DTSTAMP:20260423T154125
CREATED:20260423T160753Z
LAST-MODIFIED:20260423T160753Z
UID:15183-1777401000-1777404600@bellaease.com
SUMMARY:Quincy Parent Support Group
DESCRIPTION:EVENT HOSTED IN QUINCY ONLY \nAll parents are welcome to join us every 2nd and 4th Tuesday for our Parent Support Group\, where we discuss real struggles facing parents like you! \nFood is provided for participants and childcare. Childcare is available on site but must be reserved ahead of time. \nTo sign up and reserve childcare\, call/text us at 217-440-5901 or fill out the form below. \nFirst Name *Last Name *Phone *Email AddressStreet AddressApartment\, suite\, etcCityState/ProvinceZIP / Postal CodeDo you need childcare for this event?Please select oneYesNoList the ages of the children that will be attendingNotes Submit RegistrationPlease do not fill in this field.
URL:https://bellaease.com/event/quincy-psg-4-28-26/
LOCATION:Quincy – 721 Building\, 721 Broadway\, Quincy\, IL\, 62301\, United States
CATEGORIES:Family Services,Quincy
ATTACH;FMTTYPE=image/png:https://bellaease.com/wp-content/uploads/2025/03/Parent-Support-Group-16-x-9-in.png
END:VEVENT
BEGIN:VEVENT
DTSTART;TZID=America/Chicago:20260507T173000
DTEND;TZID=America/Chicago:20260507T193000
DTSTAMP:20260423T154125
CREATED:20260408T153930Z
LAST-MODIFIED:20260408T153930Z
UID:15161-1778175000-1778182200@bellaease.com
SUMMARY:Teen Mental Health 101
DESCRIPTION:EVENT HOSTED IN QUINCY ONLY \nJoin us for a 4-week crash course on teen mental health\, with Leslie Vigor and Erica Kirlin. This group is designed for parents\, guardians\, teachers\, and community members who work with 12-18 year old’s. This workshop will be held every Thursday in May from 5:30-7:30 PM. \n$50 Visa Gift Cards will be given away during each session\, but you must attend the first session to attend the rest. \nFood is provided for participants and childcare. Childcare is available on site but must be reserved ahead of time. To sign up\, call us at 217-209-0632 or fill out the form below. \nFirst Name *Last Name *Phone *Email AddressStreet AddressApartment\, suite\, etcCityState/ProvinceZIP / Postal CodeDo you need childcare for this event?Please select oneYesNoList the ages of the children that will be attendingNotes Submit Registration
URL:https://bellaease.com/event/teen-mental-health-5-7-26/
LOCATION:Quincy – 721 Building\, 721 Broadway\, Quincy\, IL\, 62301\, United States
CATEGORIES:Bella Ease,Quincy
ATTACH;FMTTYPE=image/png:https://bellaease.com/wp-content/uploads/2026/04/Copy-of-Teen-Mental-Health-101-16-x-9-in.png
END:VEVENT
BEGIN:VEVENT
DTSTART;TZID=America/Chicago:20260512T170000
DTEND;TZID=America/Chicago:20260512T190000
DTSTAMP:20260423T154125
CREATED:20260410T155542Z
LAST-MODIFIED:20260310T155605Z
UID:15151-1778605200-1778612400@bellaease.com
SUMMARY:Partnering with Parents
DESCRIPTION:EVENT HOSTED IN QUINCY ONLY \nThis program was developed by parents along with DCFS to help parents involved in the Illinois child welfare system or with previous involvement. Partnering with Parents provides a safe place for parents to meet with one another and with DCFS staff. These meetings are dedicated to supporting parents as you complete your journey through the child welfare system. \nFood is provided for participants and childcare. Childcare is available on site but must be reserved ahead of time. \nTo sign up and reserve childcare\, call us at 217-209-0632 or fill out the form below. \nFirst Name *Last Name *Phone *Email AddressStreet AddressApartment\, suite\, etcCityState/ProvinceZIP / Postal CodeDo you need childcare for this event? *Please select oneYesNoList the ages of the children that will be attendingNotes Submit RegistrationPlease do not fill in this field.
URL:https://bellaease.com/event/partnering-with-parents-5-12-26/
LOCATION:Quincy – 721 Building\, 721 Broadway\, Quincy\, IL\, 62301\, United States
CATEGORIES:Family Services,Quincy
ATTACH;FMTTYPE=image/png:https://bellaease.com/wp-content/uploads/2026/03/Partnering-With-Parents.png
END:VEVENT
BEGIN:VEVENT
DTSTART;TZID=America/Chicago:20260514T173000
DTEND;TZID=America/Chicago:20260514T193000
DTSTAMP:20260423T154125
CREATED:20260408T154057Z
LAST-MODIFIED:20260408T154057Z
UID:15172-1778779800-1778787000@bellaease.com
SUMMARY:Teen Mental Health 101
DESCRIPTION:EVENT HOSTED IN QUINCY ONLY \nJoin us for a 4-week crash course on teen mental health\, with Leslie Vigor and Erica Kirlin. This group is designed for parents\, guardians\, teachers\, and community members who work with 12-18 year old’s. This workshop will be held every Thursday in May from 5:30-7:30 PM. \n$50 Visa Gift Cards will be given away during each session\, but you must attend the first session to attend the rest. \nFood is provided for participants and childcare. Childcare is available on site but must be reserved ahead of time. To reserve childcare\, you must register and attend the May 7th event.
URL:https://bellaease.com/event/teen-mental-health-5-14-26/
LOCATION:Quincy – 721 Building\, 721 Broadway\, Quincy\, IL\, 62301\, United States
CATEGORIES:Bella Ease,Quincy
ATTACH;FMTTYPE=image/png:https://bellaease.com/wp-content/uploads/2026/04/Copy-of-Teen-Mental-Health-101-16-x-9-in.png
END:VEVENT
BEGIN:VEVENT
DTSTART;TZID=America/Chicago:20260519T180000
DTEND;TZID=America/Chicago:20260519T200000
DTSTAMP:20260423T154125
CREATED:20260406T152403Z
LAST-MODIFIED:20260310T154229Z
UID:15134-1779213600-1779220800@bellaease.com
SUMMARY:Be Strong Parent Cafe - Quincy
DESCRIPTION:EVENT HOSTED IN QUINCY \nPlant seeds of connection and watch your family bloom at this Parent Cafe! Through conversations we’ll explore how strong relationships help families grow. Great parenting is part natural\, part learned\, and everyone needs support sometimes. Come share\, learn\, and cultivate something meaningful! \nFood is provided for participants and childcare. Childcare is available on site but must be reserved ahead of time. To sign up\, fill out the form below. \nFor more information\, contact Dorinda Smith (dorinda@bellaease.com) or Morgan Harvey (morgan@bestrongfamilies.net) \nFirst Name *Last Name *Phone *Email AddressStreet AddressApartment\, suite\, etcCityState/ProvinceZIP / Postal CodeIn what city will you be attending this event? *Please select oneQuincyJacksonvilleDo you need childcare for this event? *Please select oneYesNoList the names & ages of the children needing childcareNotes Submit RegistrationPlease do not fill in this field.
URL:https://bellaease.com/event/be-strong-5-19-26/
LOCATION:Quincy – 721 Building\, 721 Broadway\, Quincy\, IL\, 62301\, United States
CATEGORIES:Family Services,Quincy
ATTACH;FMTTYPE=image/png:https://bellaease.com/wp-content/uploads/2026/04/Parent-Cafe-5.19.26.png
END:VEVENT
BEGIN:VEVENT
DTSTART;TZID=America/Chicago:20260521T173000
DTEND;TZID=America/Chicago:20260521T193000
DTSTAMP:20260423T154125
CREATED:20260415T154111Z
LAST-MODIFIED:20260408T154136Z
UID:15174-1779384600-1779391800@bellaease.com
SUMMARY:Teen Mental Health 101
DESCRIPTION:EVENT HOSTED IN QUINCY ONLY \nJoin us for a 4-week crash course on teen mental health\, with Leslie Vigor and Erica Kirlin. This group is designed for parents\, guardians\, teachers\, and community members who work with 12-18 year old’s. This workshop will be held every Thursday in May from 5:30-7:30 PM. \n$50 Visa Gift Cards will be given away during each session\, but you must attend the first session to attend the rest. \nFood is provided for participants and childcare. Childcare is available on site but must be reserved ahead of time. To reserve childcare\, you must register and attend the May 7th event.
URL:https://bellaease.com/event/teen-mental-health-5-21-26/
LOCATION:Quincy – 721 Building\, 721 Broadway\, Quincy\, IL\, 62301\, United States
CATEGORIES:Bella Ease,Quincy
ATTACH;FMTTYPE=image/png:https://bellaease.com/wp-content/uploads/2026/04/Copy-of-Teen-Mental-Health-101-16-x-9-in.png
END:VEVENT
BEGIN:VEVENT
DTSTART;TZID=America/Chicago:20260521T180000
DTEND;TZID=America/Chicago:20260521T193000
DTSTAMP:20260423T154125
CREATED:20260423T161153Z
LAST-MODIFIED:20260423T161153Z
UID:15192-1779386400-1779391800@bellaease.com
SUMMARY:The Barbershop
DESCRIPTION:EVENT HOSTED IN QUINCY ONLY \nHey Dads\, you are invited to enjoy great food and great Dad-talk with other men\, young and old. This group is for all Dads – Those who are winning\, those who want to win\, and even those who are just keeping their heads above the water. The Barber Shop happens on the 3rd Thursday of every month. \nChildcare is provided if requested through the form below. \nFirst Name *Last Name *Phone *Email AddressStreet AddressApartment\, suite\, etcCityState/ProvinceZIP / Postal CodeDo you need childcare for this event?Please select oneYesNoList the ages of the children that will be attendingNotes Submit Registration
URL:https://bellaease.com/event/the-barbershop-5-21-26/
LOCATION:Quincy – 707 Location\, 707 Broadway\, Quincy\, IL\, 62301\, United States
CATEGORIES:Family Services,Quincy
ATTACH;FMTTYPE=image/png:https://bellaease.com/wp-content/uploads/2025/03/Barber-Shop-Cover.png
END:VEVENT
BEGIN:VEVENT
DTSTART;VALUE=DATE:20260525
DTEND;VALUE=DATE:20260526
DTSTAMP:20260423T154125
CREATED:20260423T162156Z
LAST-MODIFIED:20260423T162437Z
UID:15196-1779667200-1779753599@bellaease.com
SUMMARY:Closed for Memorial Day
DESCRIPTION:All Bella Ease offices will be closed on Monday\, May 25th in observance of Memorial Day. \nAll offices and programs will reopen on Tuesday\, May 26th.
URL:https://bellaease.com/event/closed-for-memorial-day/
CATEGORIES:Beardstown,Bella Ease,Jacksonville,Quincy
ATTACH;FMTTYPE=image/png:https://bellaease.com/wp-content/uploads/2026/04/Closed-for-Memorial-Day-2026.png
END:VEVENT
BEGIN:VEVENT
DTSTART;TZID=America/Chicago:20260526T183000
DTEND;TZID=America/Chicago:20260526T193000
DTSTAMP:20260423T154125
CREATED:20260423T161303Z
LAST-MODIFIED:20260423T161303Z
UID:15194-1779820200-1779823800@bellaease.com
SUMMARY:Quincy Parent Support Group
DESCRIPTION:EVENT HOSTED IN QUINCY ONLY \nAll parents are welcome to join us every 2nd and 4th Tuesday for our Parent Support Group\, where we discuss real struggles facing parents like you! \nFood is provided for participants and childcare. Childcare is available on site but must be reserved ahead of time. \nTo sign up and reserve childcare\, call/text us at 217-440-5901 or fill out the form below. \nFirst Name *Last Name *Phone *Email AddressStreet AddressApartment\, suite\, etcCityState/ProvinceZIP / Postal CodeDo you need childcare for this event?Please select oneYesNoList the ages of the children that will be attendingNotes Submit RegistrationPlease do not fill in this field. Please do not fill in this field.
URL:https://bellaease.com/event/quincy-psg-5-26-26/
LOCATION:Quincy – 721 Building\, 721 Broadway\, Quincy\, IL\, 62301\, United States
CATEGORIES:Family Services,Quincy
ATTACH;FMTTYPE=image/png:https://bellaease.com/wp-content/uploads/2025/03/Parent-Support-Group-16-x-9-in.png
END:VEVENT
BEGIN:VEVENT
DTSTART;TZID=America/Chicago:20260528T173000
DTEND;TZID=America/Chicago:20260528T193000
DTSTAMP:20260423T154126
CREATED:20260421T154151Z
LAST-MODIFIED:20260408T154225Z
UID:15176-1779989400-1779996600@bellaease.com
SUMMARY:Teen Mental Health 101
DESCRIPTION:EVENT HOSTED IN QUINCY ONLY \nJoin us for a 4-week crash course on teen mental health\, with Leslie Vigor and Erica Kirlin. This group is designed for parents\, guardians\, teachers\, and community members who work with 12-18 year old’s. This workshop will be held every Thursday in May from 5:30-7:30 PM. \n$50 Visa Gift Cards will be given away during each session\, but you must attend the first session to attend the rest. \nFood is provided for participants and childcare. Childcare is available on site but must be reserved ahead of time. To reserve childcare\, you must register and attend the May 7th event.
URL:https://bellaease.com/event/teen-mental-health-5-28-26/
LOCATION:Quincy – 721 Building\, 721 Broadway\, Quincy\, IL\, 62301\, United States
CATEGORIES:Bella Ease,Quincy
ATTACH;FMTTYPE=image/png:https://bellaease.com/wp-content/uploads/2026/04/Copy-of-Teen-Mental-Health-101-16-x-9-in.png
END:VEVENT
END:VCALENDAR