BEGIN:VCALENDAR
VERSION:2.0
PRODID:-//Bella Ease - ECPv6.15.20//NONSGML v1.0//EN
CALSCALE:GREGORIAN
METHOD:PUBLISH
X-WR-CALNAME:Bella Ease
X-ORIGINAL-URL:https://bellaease.com
X-WR-CALDESC:Events for Bella Ease
REFRESH-INTERVAL;VALUE=DURATION:PT1H
X-Robots-Tag:noindex
X-PUBLISHED-TTL:PT1H
BEGIN:VTIMEZONE
TZID:America/Chicago
BEGIN:DAYLIGHT
TZOFFSETFROM:-0600
TZOFFSETTO:-0500
TZNAME:CDT
DTSTART:20250309T080000
END:DAYLIGHT
BEGIN:STANDARD
TZOFFSETFROM:-0500
TZOFFSETTO:-0600
TZNAME:CST
DTSTART:20251102T070000
END:STANDARD
BEGIN:DAYLIGHT
TZOFFSETFROM:-0600
TZOFFSETTO:-0500
TZNAME:CDT
DTSTART:20260308T080000
END:DAYLIGHT
BEGIN:STANDARD
TZOFFSETFROM:-0500
TZOFFSETTO:-0600
TZNAME:CST
DTSTART:20261101T070000
END:STANDARD
BEGIN:DAYLIGHT
TZOFFSETFROM:-0600
TZOFFSETTO:-0500
TZNAME:CDT
DTSTART:20270314T080000
END:DAYLIGHT
BEGIN:STANDARD
TZOFFSETFROM:-0500
TZOFFSETTO:-0600
TZNAME:CST
DTSTART:20271107T070000
END:STANDARD
END:VTIMEZONE
BEGIN:VEVENT
DTSTART;VALUE=DATE:20260302
DTEND;VALUE=DATE:20260307
DTSTAMP:20260423T192736
CREATED:20260226T165739Z
LAST-MODIFIED:20260226T165739Z
UID:15081-1772409600-1772841599@bellaease.com
SUMMARY:Youth Services Closed
DESCRIPTION:All Youth Services will be closed from Monday\, March 2nd through Friday\, March 6th due to staff training. Services that will be closed include: Teen Reach\, CARES\, and Distance Learning. \nAll programs will reopen on Monday\, March 9th. Please call 217-209-0632 if you have additional questions.
URL:https://bellaease.com/event/ys-closed/
CATEGORIES:Quincy,Youth Services
ATTACH;FMTTYPE=image/png:https://bellaease.com/wp-content/uploads/2026/02/Youth-Services-Closed-Plus-Distance-Learning.png
END:VEVENT
END:VCALENDAR