BEGIN:VCALENDAR
VERSION:2.0
PRODID:-//Bella Ease - ECPv6.15.20//NONSGML v1.0//EN
CALSCALE:GREGORIAN
METHOD:PUBLISH
X-WR-CALNAME:Bella Ease
X-ORIGINAL-URL:https://bellaease.com
X-WR-CALDESC:Events for Bella Ease
REFRESH-INTERVAL;VALUE=DURATION:PT1H
X-Robots-Tag:noindex
X-PUBLISHED-TTL:PT1H
BEGIN:VTIMEZONE
TZID:America/Chicago
BEGIN:DAYLIGHT
TZOFFSETFROM:-0600
TZOFFSETTO:-0500
TZNAME:CDT
DTSTART:20240310T080000
END:DAYLIGHT
BEGIN:STANDARD
TZOFFSETFROM:-0500
TZOFFSETTO:-0600
TZNAME:CST
DTSTART:20241103T070000
END:STANDARD
BEGIN:DAYLIGHT
TZOFFSETFROM:-0600
TZOFFSETTO:-0500
TZNAME:CDT
DTSTART:20250309T080000
END:DAYLIGHT
BEGIN:STANDARD
TZOFFSETFROM:-0500
TZOFFSETTO:-0600
TZNAME:CST
DTSTART:20251102T070000
END:STANDARD
BEGIN:DAYLIGHT
TZOFFSETFROM:-0600
TZOFFSETTO:-0500
TZNAME:CDT
DTSTART:20260308T080000
END:DAYLIGHT
BEGIN:STANDARD
TZOFFSETFROM:-0500
TZOFFSETTO:-0600
TZNAME:CST
DTSTART:20261101T070000
END:STANDARD
END:VTIMEZONE
BEGIN:VEVENT
DTSTART;TZID=America/Chicago:20250609T180000
DTEND;TZID=America/Chicago:20250609T190000
DTSTAMP:20260424T094708
CREATED:20250522T152220Z
LAST-MODIFIED:20250522T152220Z
UID:14474-1749492000-1749495600@bellaease.com
SUMMARY:Jacksonville Parent Support Group
DESCRIPTION:EVENT HOSTED IN JACKSONVILLE ONLY \nAll parents are welcome to join us every 2nd and 4th Monday for our Parent Support Group\, where we discuss real struggles facing parents like you! \nFood is provided for participants and childcare. Childcare is available on site but must be reserved ahead of time. \nTo sign up and reserve childcare\, call/text us at 217-440-5901 or fill out the form below. \nFirst Name *Last Name *Phone *Email AddressStreet AddressApartment\, suite\, etcCityState/ProvinceZIP / Postal CodeDo you need childcare for this event?Please select oneYesNoList the ages of the children that will be attendingNotes Submit RegistrationPlease do not fill in this field.
URL:https://bellaease.com/event/jacksonville-psg-6-9-25/
LOCATION:IL
CATEGORIES:Family Services,Jacksonville
ATTACH;FMTTYPE=image/png:https://bellaease.com/wp-content/uploads/2025/03/Parent-Support-Group-16-x-9-in.png
END:VEVENT
BEGIN:VEVENT
DTSTART;TZID=America/Chicago:20250609T090000
DTEND;TZID=America/Chicago:20250609T150000
DTSTAMP:20260424T094708
CREATED:20250522T165027Z
LAST-MODIFIED:20250522T165027Z
UID:14498-1749459600-1749481200@bellaease.com
SUMMARY:Understand My Brain to Understand My Behavior
DESCRIPTION:EVENT HOSTED IN QUINCY ONLY \nJoin us and the Regional Office of Education for this workshop to help you learn the why behind behavior. Heidy LaFleur will be presenting. \nThe workshop will be held at The Knowledge Center  at Chaddock from 9:00 AM – 3:00 PM\, with lunch provided.  \nRegister at https://www.roe1.net/event/understand-my-brain-to-understand-my-behavior-workshop-turning-trauma-research-into-practice/
URL:https://bellaease.com/event/understand-my-brain-6-9-25/
LOCATION:The Knowledge Center at Chaddock\, 205 South 24th St\, Quincy\, IL\, 62301\, United States
CATEGORIES:Quincy
ATTACH;FMTTYPE=image/png:https://bellaease.com/wp-content/uploads/2025/05/Bella-Ease-Understand-My-Brain-to-Understand-My-Behavior-scaled.png
END:VEVENT
BEGIN:VEVENT
DTSTART;TZID=America/Chicago:20250604T180000
DTEND;TZID=America/Chicago:20250604T191500
DTSTAMP:20260424T094708
CREATED:20250521T211648Z
LAST-MODIFIED:20250521T211648Z
UID:14468-1749060000-1749064500@bellaease.com
SUMMARY:Family Circle
DESCRIPTION:EVENT HOSTED IN PITTSFIELD ONLY \nAre you raising grandchildren\, nieces/nephews\, or other relative children? We want to hear from you and learn how we can help. \nBring your questions\, challenges\, and successes. Get answers and resources while hearing from others with shared experiences. \nFree dinner and childcare provided to those who register with the form below. \nFirst Name *Last Name *Phone *Email AddressStreet AddressApartment\, suite\, etcCityState/ProvinceZIP / Postal CodeDo you need childcare for this event? *Please select oneYesNoList the ages of the children that will be attendingNotes Submit RegistrationPlease do not fill in this field.
URL:https://bellaease.com/event/family-circle-6-4-25/
LOCATION:JWCC Southeast Education Center\, 39637 260th Ave\, Pittsfield\, IL\, 62363\, United States
CATEGORIES:Family Services,Pittsfield
ATTACH;FMTTYPE=image/png:https://bellaease.com/wp-content/uploads/2025/04/Family-Circle-Generic-16-x-9-in.png
END:VEVENT
BEGIN:VEVENT
DTSTART;TZID=America/Chicago:20250604T100000
DTEND;TZID=America/Chicago:20250604T110000
DTSTAMP:20260424T094709
CREATED:20250522T163653Z
LAST-MODIFIED:20250522T163653Z
UID:14495-1749031200-1749034800@bellaease.com
SUMMARY:Anxious Generation Book Study
DESCRIPTION:Join this book study to discuss Jonathan Haidt’s The Anxious Generation and to explore the factors influencing mental health and examine practical strategies to better support emotional well-being. Become part of the conversation shaping the future of student mental health. \nCLICK HERE to view the book on Amazon. \nThe workshop will be held online by the Regional Office of Education in 1-hour Zoom discussions.  \nRegister at https://www.roe1.net/event/anxious-generation-book-study/
URL:https://bellaease.com/event/anxious-gen-book-study/
LOCATION:Zoom meeting
CATEGORIES:Community Services,Youth Services
ATTACH;FMTTYPE=image/png:https://bellaease.com/wp-content/uploads/2025/05/Screenshot-2025-05-22-112937.png
END:VEVENT
BEGIN:VEVENT
DTSTART;TZID=America/Chicago:20250603T080000
DTEND;TZID=America/Chicago:20250603T150000
DTSTAMP:20260424T094709
CREATED:20250521T213950Z
LAST-MODIFIED:20250522T163154Z
UID:14470-1748937600-1748962800@bellaease.com
SUMMARY:Youth Mental Health First Aid - ROE
DESCRIPTION:EVENT HOSTED IN QUINCY ONLY \nA workshop designed to teach anyone how to help teens in a mental health crisis. Will include discussion of adolescent development\, a 5-step action plan\, and common mental health challenges for teens. \nThe workshop will be held at 721 Broadway (eastern building of Bella Ease’s facility) from 8:00 AM – 3:00 PM. A 1 hour lunch break will be offered\, but no meal or childcare will be provided.  \nRegistration currently closed. 
URL:https://bellaease.com/event/youth-mental-health-6-3-25/
LOCATION:Quincy – 721 Building\, 721 Broadway\, Quincy\, IL\, 62301\, United States
CATEGORIES:Community Services,Quincy,Youth Services
ATTACH;FMTTYPE=image/png:https://bellaease.com/wp-content/uploads/2025/05/Bella-Ease-YMHFA-scaled.png
END:VEVENT
BEGIN:VEVENT
DTSTART;TZID=America/Chicago:20250531T110000
DTEND;TZID=America/Chicago:20250531T130000
DTSTAMP:20260424T094709
CREATED:20250422T162550Z
LAST-MODIFIED:20250422T162550Z
UID:14431-1748689200-1748696400@bellaease.com
SUMMARY:Summer Kickoff
DESCRIPTION:EVENT HOSTED IN QUINCY ONLY \nWe are kicking off summer with a community block party! Come have fun\, learn how Bella Ease can sponsor your 4th-12th grader with summer activities\, and connect with the community! \nFood and activities available for free\, but no childcare will be provided. \nNo registration needed. For more information call 217-209-0632.
URL:https://bellaease.com/event/summer-kickoff/
LOCATION:Quincy – 707 Location\, 707 Broadway\, Quincy\, IL\, 62301\, United States
CATEGORIES:Community Services,Quincy
ATTACH;FMTTYPE=image/png:https://bellaease.com/wp-content/uploads/2025/04/Summer-Kick-off-16-x-9-in.png
END:VEVENT
BEGIN:VEVENT
DTSTART;TZID=America/Chicago:20250528T170000
DTEND;TZID=America/Chicago:20250528T190000
DTSTAMP:20260424T094709
CREATED:20250422T163620Z
LAST-MODIFIED:20250422T163620Z
UID:14461-1748451600-1748458800@bellaease.com
SUMMARY:Parenting Journey in Recovery
DESCRIPTION:EVENT HOSTED IN QUINCY ONLY \nBecome more optimistic about maintaining your recovery\, while continuing to build a strong and positive relationship with your children. We will address triggers and help you to overcome guilt and shame. This free 12-week group will help you tackle all of these things and more. Attendance is only open to parents that register. \nThis support group will be held every Wednesday from March 5th to May 28th. \nDinner and childcare are available on site for those who register using the form below. \nFirst Name *Last Name *Phone *Email AddressStreet AddressApartment\, suite\, etcCityState/ProvinceZIP / Postal CodeDo you need childcare for this event?Please select oneYesNoList the ages of the children that will be attendingNotes Submit Registration
URL:https://bellaease.com/event/parenting-journey-in-recovery-5-28-25/
LOCATION:Quincy – 707 Location\, 707 Broadway\, Quincy\, IL\, 62301\, United States
CATEGORIES:Family Services,Quincy
ATTACH;FMTTYPE=image/png:https://bellaease.com/wp-content/uploads/2025/03/Parenting-Journey-Header-16-x-9-in.png
END:VEVENT
BEGIN:VEVENT
DTSTART;TZID=America/Chicago:20250527T183000
DTEND;TZID=America/Chicago:20250527T193000
DTSTAMP:20260424T094709
CREATED:20250422T163526Z
LAST-MODIFIED:20250422T163526Z
UID:14459-1748370600-1748374200@bellaease.com
SUMMARY:Quincy Parent Support Group
DESCRIPTION:EVENT HOSTED IN QUINCY ONLY \nAll parents are welcome to join us every 2nd and 4th Tuesday for our Parent Support Group\, where we discuss real struggles facing parents like you! \nFood is provided for participants and childcare. Childcare is available on site but must be reserved ahead of time. \nTo sign up and reserve childcare\, call/text us at 217-440-5901 or fill out the form below. \nFirst Name *Last Name *Phone *Email AddressStreet AddressApartment\, suite\, etcCityState/ProvinceZIP / Postal CodeDo you need childcare for this event?Please select oneYesNoList the ages of the children that will be attendingNotes Submit RegistrationPlease do not fill in this field. Please do not fill in this field.
URL:https://bellaease.com/event/quincy-psg-5-27-25/
LOCATION:IL
CATEGORIES:Family Services,Quincy
ATTACH;FMTTYPE=image/png:https://bellaease.com/wp-content/uploads/2025/03/Parent-Support-Group-16-x-9-in.png
END:VEVENT
BEGIN:VEVENT
DTSTART;VALUE=DATE:20250526
DTEND;VALUE=DATE:20250527
DTSTAMP:20260424T094709
CREATED:20250422T164113Z
LAST-MODIFIED:20250422T164113Z
UID:14463-1748217600-1748303999@bellaease.com
SUMMARY:Closed for Memorial Day
DESCRIPTION:All Bella Ease programs and offices will be closed on Monday\, May 26th in honor of Memorial Day. \nAll offices and programs will reopen on Tuesday\, May 27th.
URL:https://bellaease.com/event/closed-for-memorial-day-2025/
LOCATION:IL
CATEGORIES:Bella Ease
ATTACH;FMTTYPE=image/png:https://bellaease.com/wp-content/uploads/2025/04/Closed-for-Memorial-Day.png
END:VEVENT
BEGIN:VEVENT
DTSTART;TZID=America/Chicago:20250521T170000
DTEND;TZID=America/Chicago:20250521T190000
DTSTAMP:20260424T094709
CREATED:20250422T163417Z
LAST-MODIFIED:20250422T163417Z
UID:14456-1747846800-1747854000@bellaease.com
SUMMARY:Parenting Journey in Recovery
DESCRIPTION:EVENT HOSTED IN QUINCY ONLY \nBecome more optimistic about maintaining your recovery\, while continuing to build a strong and positive relationship with your children. We will address triggers and help you to overcome guilt and shame. This free 12-week group will help you tackle all of these things and more. Attendance is only open to parents that register. \nThis support group will be held every Wednesday from March 5th to May 28th. \nDinner and childcare are available on site for those who register using the form below. \nFirst Name *Last Name *Phone *Email AddressStreet AddressApartment\, suite\, etcCityState/ProvinceZIP / Postal CodeDo you need childcare for this event?Please select oneYesNoList the ages of the children that will be attendingNotes Submit Registration
URL:https://bellaease.com/event/parenting-journey-in-recovery-5-21-25/
LOCATION:Quincy – 707 Location\, 707 Broadway\, Quincy\, IL\, 62301\, United States
CATEGORIES:Family Services,Quincy
ATTACH;FMTTYPE=image/png:https://bellaease.com/wp-content/uploads/2025/03/Parenting-Journey-Header-16-x-9-in.png
END:VEVENT
BEGIN:VEVENT
DTSTART;TZID=America/Chicago:20250515T180000
DTEND;TZID=America/Chicago:20250515T193000
DTSTAMP:20260424T094709
CREATED:20250422T163339Z
LAST-MODIFIED:20250422T163446Z
UID:14454-1747332000-1747337400@bellaease.com
SUMMARY:The Barbershop
DESCRIPTION:EVENT HOSTED IN QUINCY ONLY \nHey Dads\, you are invited to enjoy great food and great Dad-talk with other men\, young and old. This group is for all Dads – Those who are winning\, those who want to win\, and even those who are just keeping their heads above the water. The Barber Shop happens on the 3rd Thursday of every month. \nChildcare is provided if requested through the form below. \nFirst Name *Last Name *Phone *Email AddressStreet AddressApartment\, suite\, etcCityState/ProvinceZIP / Postal CodeDo you need childcare for this event?Please select oneYesNoList the ages of the children that will be attendingNotes Submit Registration
URL:https://bellaease.com/event/the-barbershop-5-15-25/
LOCATION:Quincy – 707 Location\, 707 Broadway\, Quincy\, IL\, 62301\, United States
CATEGORIES:Family Services,Quincy
ATTACH;FMTTYPE=image/png:https://bellaease.com/wp-content/uploads/2025/03/Barber-Shop-Cover.png
END:VEVENT
BEGIN:VEVENT
DTSTART;TZID=America/Chicago:20250515T173000
DTEND;TZID=America/Chicago:20250515T183000
DTSTAMP:20260424T094709
CREATED:20250422T163144Z
LAST-MODIFIED:20250422T163258Z
UID:14451-1747330200-1747333800@bellaease.com
SUMMARY:Improving Your Relationship with Your Child or Teen
DESCRIPTION:EVENT HELD IN QUINCY ONLY \nCome learn with us how to develop a positive relationship with your child as they grow. Leslie Vigor will be with us to describe the changes that your child’s brain goes through during the transitional years. \nJoin us on Thursday\, May 1st\, 8th\, and 15th at 5:30 PM for this event! \nFree childcare and food available for those that register using the form below. \nFirst Name *Last Name *Phone *Email AddressStreet AddressApartment\, suite\, etcCityState/ProvinceZIP / Postal CodeDo you need childcare for this event?Please select oneYesNoList the ages of the children that will be attendingNotes Submit Registration
URL:https://bellaease.com/event/improving-your-relationship-5-15-25/
LOCATION:Quincy – 707 Location\, 707 Broadway\, Quincy\, IL\, 62301\, United States
CATEGORIES:Family Services,Quincy
ATTACH;FMTTYPE=image/png:https://bellaease.com/wp-content/uploads/2025/04/Improving-your-Relationship-with-your-Child-16-x-9-in.png
END:VEVENT
BEGIN:VEVENT
DTSTART;TZID=America/Chicago:20250507T180000
DTEND;TZID=America/Chicago:20250507T191500
DTSTAMP:20260424T094709
CREATED:20250417T202723Z
LAST-MODIFIED:20250417T202723Z
UID:14428-1746640800-1746645300@bellaease.com
SUMMARY:Family Circle
DESCRIPTION:EVENT HOSTED IN PITTSFIELD ONLY \nAre you raising grandchildren\, nieces/nephews\, or other relative children? We want to hear from you and learn how we can help. \nBring your questions\, challenges\, and successes. Get answers and resources while hearing from others with shared experiences. \nFree dinner and childcare provided to those who register with the form below. \nFirst Name *Last Name *Phone *Email AddressStreet AddressApartment\, suite\, etcCityState/ProvinceZIP / Postal CodeDo you need childcare for this event? *Please select oneYesNoList the ages of the children that will be attendingNotes Submit RegistrationPlease do not fill in this field. Please do not fill in this field.
URL:https://bellaease.com/event/family-circle-5-7-25/
LOCATION:JWCC Southeast Education Center\, 39637 260th Ave\, Pittsfield\, IL\, 62363\, United States
CATEGORIES:Family Services,Pittsfield
ATTACH;FMTTYPE=image/png:https://bellaease.com/wp-content/uploads/2025/04/Family-Circle-Generic-16-x-9-in.png
END:VEVENT
BEGIN:VEVENT
DTSTART;TZID=America/Chicago:20250501T173000
DTEND;TZID=America/Chicago:20250501T183000
DTSTAMP:20260424T094709
CREATED:20250407T151925Z
LAST-MODIFIED:20250407T151925Z
UID:14409-1746120600-1746124200@bellaease.com
SUMMARY:Improving Your Relationship with Your Child
DESCRIPTION:EVENT HELD IN QUINCY ONLY \nCome learn with us how to develop a positive relationship with your child as they grow. Leslie Vigor will be with us to describe the changes that your child’s brain goes through during the transitional years. \nJoin us on Thursday\, May 1st\, 8th\, and 15th at 5:30 PM for this event! \nFree childcare and food available for those that register using the form below. \nFirst Name *Last Name *Phone *Email AddressStreet AddressApartment\, suite\, etcCityState/ProvinceZIP / Postal CodeDo you need childcare for this event?Please select oneYesNoList the ages of the children that will be attendingNotes Submit Registration
URL:https://bellaease.com/event/improving-relationship-5-1-25/
LOCATION:Quincy – 707 Location\, 707 Broadway\, Quincy\, IL\, 62301\, United States
CATEGORIES:Family Services,Quincy
ATTACH;FMTTYPE=image/png:https://bellaease.com/wp-content/uploads/2025/04/Improving-your-Relationship-with-your-Child-16-x-9-in.png
END:VEVENT
BEGIN:VEVENT
DTSTART;TZID=America/Chicago:20250425T163000
DTEND;TZID=America/Chicago:20250425T173000
DTSTAMP:20260424T094709
CREATED:20250321T215552Z
LAST-MODIFIED:20250324T220522Z
UID:14373-1745598600-1745602200@bellaease.com
SUMMARY:Community Give Back Event
DESCRIPTION:EVENT HOSTED IN QUINCY ONLY \nStop by between 4:30 and 5:30 PM on Friday\, April 25th for our Community Give Back Event. Items will be given away from the Open Hands Food Pantry\, the Central Illinois Food Bank\, Lowes\, DOT Foods\, and more. Please bring a box or bag to carry your items in. \nNo registration needed. You must be present to receive items. 
URL:https://bellaease.com/event/community-give-back-event/
LOCATION:Quincy – 707 Location\, 707 Broadway\, Quincy\, IL\, 62301\, United States
CATEGORIES:Community Services,Quincy
ATTACH;FMTTYPE=image/png:https://bellaease.com/wp-content/uploads/2025/03/Community-Give-Back-Event-Web.png
END:VEVENT
END:VCALENDAR