BEGIN:VCALENDAR
VERSION:2.0
PRODID:-//Bella Ease - ECPv6.15.20//NONSGML v1.0//EN
CALSCALE:GREGORIAN
METHOD:PUBLISH
X-ORIGINAL-URL:https://bellaease.com
X-WR-CALDESC:Events for Bella Ease
REFRESH-INTERVAL;VALUE=DURATION:PT1H
X-Robots-Tag:noindex
X-PUBLISHED-TTL:PT1H
BEGIN:VTIMEZONE
TZID:America/Chicago
BEGIN:DAYLIGHT
TZOFFSETFROM:-0600
TZOFFSETTO:-0500
TZNAME:CDT
DTSTART:20240310T080000
END:DAYLIGHT
BEGIN:STANDARD
TZOFFSETFROM:-0500
TZOFFSETTO:-0600
TZNAME:CST
DTSTART:20241103T070000
END:STANDARD
BEGIN:DAYLIGHT
TZOFFSETFROM:-0600
TZOFFSETTO:-0500
TZNAME:CDT
DTSTART:20250309T080000
END:DAYLIGHT
BEGIN:STANDARD
TZOFFSETFROM:-0500
TZOFFSETTO:-0600
TZNAME:CST
DTSTART:20251102T070000
END:STANDARD
BEGIN:DAYLIGHT
TZOFFSETFROM:-0600
TZOFFSETTO:-0500
TZNAME:CDT
DTSTART:20260308T080000
END:DAYLIGHT
BEGIN:STANDARD
TZOFFSETFROM:-0500
TZOFFSETTO:-0600
TZNAME:CST
DTSTART:20261101T070000
END:STANDARD
END:VTIMEZONE
BEGIN:VEVENT
DTSTART;TZID=America/Chicago:20250702T180000
DTEND;TZID=America/Chicago:20250702T191500
DTSTAMP:20260424T061505
CREATED:20250522T160614Z
LAST-MODIFIED:20250522T160614Z
UID:14493-1751479200-1751483700@bellaease.com
SUMMARY:Family Circle
DESCRIPTION:EVENT HOSTED IN PITTSFIELD ONLY \nAre you raising grandchildren\, nieces/nephews\, or other relative children? We want to hear from you and learn how we can help. \nBring your questions\, challenges\, and successes. Get answers and resources while hearing from others with shared experiences. \nFree dinner and childcare provided to those who register with the form below. \nFirst Name *Last Name *Phone *Email AddressStreet AddressApartment\, suite\, etcCityState/ProvinceZIP / Postal CodeDo you need childcare for this event? *Please select oneYesNoList the ages of the children that will be attendingNotes Submit RegistrationPlease do not fill in this field.
URL:https://bellaease.com/event/family-circle-7-2-25/
LOCATION:JWCC Southeast Education Center\, 39637 260th Ave\, Pittsfield\, IL\, 62363\, United States
CATEGORIES:Family Services,Pittsfield
ATTACH;FMTTYPE=image/png:https://bellaease.com/wp-content/uploads/2025/04/Family-Circle-Generic-16-x-9-in.png
END:VEVENT
BEGIN:VEVENT
DTSTART;VALUE=DATE:20250704
DTEND;VALUE=DATE:20250705
DTSTAMP:20260424T061505
CREATED:20250522T160542Z
LAST-MODIFIED:20250522T160542Z
UID:14490-1751587200-1751673599@bellaease.com
SUMMARY:Closed for Independence Day
DESCRIPTION:All Bella Ease programs and offices will be closed on Friday\, July 4th in honor of Independence Day. \nAll offices and programs will reopen on Monday\, July 7th.
URL:https://bellaease.com/event/closed-for-independence-day-2025/
CATEGORIES:Bella Ease
ATTACH;FMTTYPE=image/png:https://bellaease.com/wp-content/uploads/2025/05/Independence-Day-2025.png
END:VEVENT
BEGIN:VEVENT
DTSTART;TZID=America/Chicago:20250708T183000
DTEND;TZID=America/Chicago:20250708T193000
DTSTAMP:20260424T061505
CREATED:20250702T221705Z
LAST-MODIFIED:20250702T221705Z
UID:14508-1751999400-1752003000@bellaease.com
SUMMARY:Quincy Parent Support Group
DESCRIPTION:EVENT HOSTED IN QUINCY ONLY \nAll parents are welcome to join us every 2nd and 4th Tuesday for our Parent Support Group\, where we discuss real struggles facing parents like you! \nFood is provided for participants and childcare. Childcare is available on site but must be reserved ahead of time. \nTo sign up and reserve childcare\, call/text us at 217-440-5901 or fill out the form below. \nFirst Name *Last Name *Phone *Email AddressStreet AddressApartment\, suite\, etcCityState/ProvinceZIP / Postal CodeDo you need childcare for this event?Please select oneYesNoList the ages of the children that will be attendingNotes Submit RegistrationPlease do not fill in this field.
URL:https://bellaease.com/event/quincy-psg-7-8-25/
CATEGORIES:Family Services,Quincy
ATTACH;FMTTYPE=image/png:https://bellaease.com/wp-content/uploads/2025/03/Parent-Support-Group-16-x-9-in.png
END:VEVENT
BEGIN:VEVENT
DTSTART;TZID=America/Chicago:20250714T180000
DTEND;TZID=America/Chicago:20250714T190000
DTSTAMP:20260424T061505
CREATED:20250702T221747Z
LAST-MODIFIED:20250702T221747Z
UID:14510-1752516000-1752519600@bellaease.com
SUMMARY:Jacksonville Parent Support Group
DESCRIPTION:EVENT HOSTED IN JACKSONVILLE ONLY \nAll parents are welcome to join us every 2nd and 4th Monday for our Parent Support Group\, where we discuss real struggles facing parents like you! \nFood is provided for participants and childcare. Childcare is available on site but must be reserved ahead of time. \nTo sign up and reserve childcare\, call/text us at 217-440-5901 or fill out the form below. \nFirst Name *Last Name *Phone *Email AddressStreet AddressApartment\, suite\, etcCityState/ProvinceZIP / Postal CodeDo you need childcare for this event?Please select oneYesNoList the ages of the children that will be attendingNotes Submit RegistrationPlease do not fill in this field. Please do not fill in this field.
URL:https://bellaease.com/event/jacksonville-psg-7-14-25/
CATEGORIES:Family Services,Jacksonville
ATTACH;FMTTYPE=image/png:https://bellaease.com/wp-content/uploads/2025/03/Parent-Support-Group-16-x-9-in.png
END:VEVENT
BEGIN:VEVENT
DTSTART;TZID=America/Chicago:20250717T180000
DTEND;TZID=America/Chicago:20250717T193000
DTSTAMP:20260424T061505
CREATED:20250702T221833Z
LAST-MODIFIED:20250702T221833Z
UID:14512-1752775200-1752780600@bellaease.com
SUMMARY:The Barbershop
DESCRIPTION:EVENT HOSTED IN QUINCY ONLY \nHey Dads\, you are invited to enjoy great food and great Dad-talk with other men\, young and old. This group is for all Dads – Those who are winning\, those who want to win\, and even those who are just keeping their heads above the water. The Barber Shop happens on the 3rd Thursday of every month. \nChildcare is provided if requested through the form below. \nFirst Name *Last Name *Phone *Email AddressStreet AddressApartment\, suite\, etcCityState/ProvinceZIP / Postal CodeDo you need childcare for this event?Please select oneYesNoList the ages of the children that will be attendingNotes Submit Registration
URL:https://bellaease.com/event/the-barbershop-7-17-25/
LOCATION:Quincy – 707 Location\, 707 Broadway\, Quincy\, IL\, 62301\, United States
CATEGORIES:Family Services,Quincy
ATTACH;FMTTYPE=image/png:https://bellaease.com/wp-content/uploads/2025/03/Barber-Shop-Cover.png
END:VEVENT
BEGIN:VEVENT
DTSTART;TZID=America/Chicago:20250722T183000
DTEND;TZID=America/Chicago:20250722T193000
DTSTAMP:20260424T061505
CREATED:20250702T221938Z
LAST-MODIFIED:20250702T221938Z
UID:14514-1753209000-1753212600@bellaease.com
SUMMARY:Quincy Parent Support Group
DESCRIPTION:EVENT HOSTED IN QUINCY ONLY \nAll parents are welcome to join us every 2nd and 4th Tuesday for our Parent Support Group\, where we discuss real struggles facing parents like you! \nFood is provided for participants and childcare. Childcare is available on site but must be reserved ahead of time. \nTo sign up and reserve childcare\, call/text us at 217-440-5901 or fill out the form below. \nFirst Name *Last Name *Phone *Email AddressStreet AddressApartment\, suite\, etcCityState/ProvinceZIP / Postal CodeDo you need childcare for this event?Please select oneYesNoList the ages of the children that will be attendingNotes Submit RegistrationPlease do not fill in this field. Please do not fill in this field. Please do not fill in this field.
URL:https://bellaease.com/event/quincy-psg-7-22-25/
CATEGORIES:Family Services,Quincy
ATTACH;FMTTYPE=image/png:https://bellaease.com/wp-content/uploads/2025/03/Parent-Support-Group-16-x-9-in.png
END:VEVENT
BEGIN:VEVENT
DTSTART;TZID=America/Chicago:20250724T090000
DTEND;TZID=America/Chicago:20250724T120000
DTSTAMP:20260424T061506
CREATED:20250703T195000Z
LAST-MODIFIED:20250703T195000Z
UID:14518-1753347600-1753358400@bellaease.com
SUMMARY:GED Class Orientation
DESCRIPTION:EVENT HOSTED IN QUINCY ONLY \nWanting to get your GED? Sign up to start GED Classes with help from John Wood Community College teachers. \nNO childcare will be provided\, so please plan accordingly. \nGo to this link below and look for the yellow button to sign up (see screenshot below). \nhttp://www.jwcc.edu/ged-literacy-esl/#ged \nOn JWCC’s site\, click this button to fill out their enrollment form:
URL:https://bellaease.com/event/ged-orientation-7-24-25/
LOCATION:Quincy – 721 Building\, 721 Broadway\, Quincy\, IL\, 62301\, United States
CATEGORIES:Community Services,Quincy
ATTACH;FMTTYPE=image/png:https://bellaease.com/wp-content/uploads/2025/07/GED-Class-July-24-2025-16-x-9-in.png
END:VEVENT
BEGIN:VEVENT
DTSTART;TZID=America/Chicago:20250728T180000
DTEND;TZID=America/Chicago:20250728T190000
DTSTAMP:20260424T061506
CREATED:20250702T222011Z
LAST-MODIFIED:20250702T222021Z
UID:14516-1753725600-1753729200@bellaease.com
SUMMARY:Jacksonville Parent Support Group
DESCRIPTION:EVENT HOSTED IN JACKSONVILLE ONLY \nAll parents are welcome to join us every 2nd and 4th Monday for our Parent Support Group\, where we discuss real struggles facing parents like you! \nFood is provided for participants and childcare. Childcare is available on site but must be reserved ahead of time. \nTo sign up and reserve childcare\, call/text us at 217-440-5901 or fill out the form below. \nFirst Name *Last Name *Phone *Email AddressStreet AddressApartment\, suite\, etcCityState/ProvinceZIP / Postal CodeDo you need childcare for this event?Please select oneYesNoList the ages of the children that will be attendingNotes Submit RegistrationPlease do not fill in this field. Please do not fill in this field. Please do not fill in this field. Please do not fill in this field.
URL:https://bellaease.com/event/jacksonville-psg-7-28-25/
CATEGORIES:Family Services,Jacksonville
ATTACH;FMTTYPE=image/png:https://bellaease.com/wp-content/uploads/2025/03/Parent-Support-Group-16-x-9-in.png
END:VEVENT
END:VCALENDAR